BEGIN:VCALENDAR
VERSION:2.0
PRODID:-//HSMAI Region Europe - ECPv6.15.20//NONSGML v1.0//EN
CALSCALE:GREGORIAN
METHOD:PUBLISH
X-ORIGINAL-URL:https://hsmai.eu
X-WR-CALDESC:Events for HSMAI Region Europe
REFRESH-INTERVAL;VALUE=DURATION:PT1H
X-Robots-Tag:noindex
X-PUBLISHED-TTL:PT1H
BEGIN:VTIMEZONE
TZID:Europe/Amsterdam
BEGIN:DAYLIGHT
TZOFFSETFROM:+0100
TZOFFSETTO:+0200
TZNAME:CEST
DTSTART:20230326T010000
END:DAYLIGHT
BEGIN:STANDARD
TZOFFSETFROM:+0200
TZOFFSETTO:+0100
TZNAME:CET
DTSTART:20231029T010000
END:STANDARD
BEGIN:DAYLIGHT
TZOFFSETFROM:+0100
TZOFFSETTO:+0200
TZNAME:CEST
DTSTART:20240331T010000
END:DAYLIGHT
BEGIN:STANDARD
TZOFFSETFROM:+0200
TZOFFSETTO:+0100
TZNAME:CET
DTSTART:20241027T010000
END:STANDARD
BEGIN:DAYLIGHT
TZOFFSETFROM:+0100
TZOFFSETTO:+0200
TZNAME:CEST
DTSTART:20250330T010000
END:DAYLIGHT
BEGIN:STANDARD
TZOFFSETFROM:+0200
TZOFFSETTO:+0100
TZNAME:CET
DTSTART:20251026T010000
END:STANDARD
END:VTIMEZONE
BEGIN:VEVENT
DTSTART;TZID=Europe/Amsterdam:20241128T170000
DTEND;TZID=Europe/Amsterdam:20241128T200000
DTSTAMP:20260423T232144
CREATED:20241106T151514Z
LAST-MODIFIED:20241106T153006Z
UID:10000433-1732813200-1732824000@hsmai.eu
SUMMARY:HSMAI Nederland - de reunie!
DESCRIPTION:[vc_row][vc_column][vc_single_image image=”16108″ img_size=”full” alignment=”center” css=””][mk_fancy_title color=”#669933″ size=”35″ font_weight=”bold” margin_bottom=”0″ font_family=”Merriweather” font_type=”google” responsive_align=”left”]HSMAI Nederland – de reunie![/mk_fancy_title][vc_column_text css=”.vc_custom_1730906998974{margin-bottom: 0px !important;}”]Wouter Olland has taken the initiative to host a reunion with former HSMAI members in the Netherlands. Some are now retired\, others have moved on to different industries\, and some are still active with HSMAI. Wouter suggested we also invite the new HSMAI members\, and we agreed—so here we go![/vc_column_text][vc_column_text css=”.vc_custom_1730905814114{margin-bottom: 0px !important;}”]Get ready for an amazing evening dedicated to reconnecting with familiar faces\, welcoming new friends\, and celebrating the vibrant HSMAI community! We’re thrilled to announce the HSMAI Netherlands Reunion\, a night where nostalgia meets new beginnings. Here’s your chance to catch up with old friends\, make new connections\, and relive the best moments of our shared journey. This is a private initiative so they are charging 45 Euro for drinks and snacks.[/vc_column_text][vc_column_text css=”.vc_custom_1730905768287{margin-bottom: 0px !important;}”]📅 Date: Thursday\, November 28\, 2024\n🕒 Time: 5:00 PM – 8:00 PM\n📍 Venue: Movenpick Hotel Amsterdam[/vc_column_text][vc_column_text css=”.vc_custom_1730905886732{margin-bottom: 0px !important;}”]This special gathering is not just for current members but also for anyone who has been part of our journey—whether you’ve stepped away from the industry\, become less active\, or are a new member excited to connect. Marius Flåskjer will be joining representing the HSMAI Europe Team.[/vc_column_text][vc_column_text css=”.vc_custom_1730905900004{margin-bottom: 0px !important;}”]If you know any past HSMAI members who would enjoy reuniting\, feel free to share this invitation internally. Let’s come together for an evening of shared stories\, connections\, and community spirit![/vc_column_text][vc_btn title=”REGISTER HERE” color=”violet” size=”lg” align=”center” css=”” button_block=”true” link=”url:https%3A%2F%2Fhsmai-reunie.nbtc.events%2F|target:_blank”][vc_column_text css=”.vc_custom_1730906102110{margin-bottom: 0px !important;}”]We look forward to seeing you there![/vc_column_text][/vc_column][/vc_row]
URL:https://hsmai.eu/event/hsmai-nederland-de-reunie/
LOCATION:Movenpick Hotel Amsterdam\, Piet Heinkade 11\, Amsterdam\, 1019 BR\, Netherlands
ATTACH;FMTTYPE=image/jpeg:https://hsmai.eu/wp-content/uploads/sites/15/2024/11/crop-hsmai-scaled.jpg
END:VEVENT
END:VCALENDAR