BEGIN:VCALENDAR
VERSION:2.0
PRODID:-//HSMAI Region Europe - ECPv6.15.20//NONSGML v1.0//EN
CALSCALE:GREGORIAN
METHOD:PUBLISH
X-ORIGINAL-URL:https://hsmai.eu
X-WR-CALDESC:Events for HSMAI Region Europe
REFRESH-INTERVAL;VALUE=DURATION:PT1H
X-Robots-Tag:noindex
X-PUBLISHED-TTL:PT1H
BEGIN:VTIMEZONE
TZID:Europe/London
BEGIN:DAYLIGHT
TZOFFSETFROM:+0000
TZOFFSETTO:+0100
TZNAME:BST
DTSTART:20240331T010000
END:DAYLIGHT
BEGIN:STANDARD
TZOFFSETFROM:+0100
TZOFFSETTO:+0000
TZNAME:GMT
DTSTART:20241027T010000
END:STANDARD
BEGIN:DAYLIGHT
TZOFFSETFROM:+0000
TZOFFSETTO:+0100
TZNAME:BST
DTSTART:20250330T010000
END:DAYLIGHT
BEGIN:STANDARD
TZOFFSETFROM:+0100
TZOFFSETTO:+0000
TZNAME:GMT
DTSTART:20251026T010000
END:STANDARD
BEGIN:DAYLIGHT
TZOFFSETFROM:+0000
TZOFFSETTO:+0100
TZNAME:BST
DTSTART:20260329T010000
END:DAYLIGHT
BEGIN:STANDARD
TZOFFSETFROM:+0100
TZOFFSETTO:+0000
TZNAME:GMT
DTSTART:20261025T010000
END:STANDARD
END:VTIMEZONE
BEGIN:VEVENT
DTSTART;VALUE=DATE:20250116
DTEND;VALUE=DATE:20250117
DTSTAMP:20260423T213515
CREATED:20240607T115321Z
LAST-MODIFIED:20250205T112058Z
UID:10000413-1736985600-1737071999@hsmai.eu
SUMMARY:Commercial Strategy Conference & HSMAI Awards Europe | London
DESCRIPTION:[vc_row][vc_column][vc_single_image image=”15589″ img_size=”1920 x 800″ css=””][mk_fancy_title color=”#669933″ size=”25″ font_weight=”bold” margin_bottom=”5″ font_family=”Merriweather” font_type=”google” responsive_align=”left”]Join Us at the HSMAI Europe Commercial Strategy Conference and HSMAI Awards Europe in London![/mk_fancy_title][mk_fancy_title color=”#000000″ size=”18″ margin_bottom=”5″ font_family=”Merriweather” font_type=”google” responsive_align=”left”]📅 Thursday\, January 16th\, 2025\n📍 The Savoy Hotel\, London\, UK \n🕘 Conference: 8:00 AM – 5:00 PM\n🕘 Awards: 6:30 PM – 11:00 PM[/mk_fancy_title][vc_column_text css=”.vc_custom_1733848392047{margin-bottom: 0px !important;}”]HSMAI Europe’s Commercial Strategy Conference: Where Insights Drive Hospitality Forward! – the evolution of HSMAI ROC – reflects the development of marketing\, revenue optimization\, sales\, and other commercial functions into new and evolving commercial strategy organisations inside many hotel companies. \nThe conference — and pre- and post-conference certifications\, leadership day\, training and roundtables — will equip commercial professionals and leaders with the skills\, knowledge\, and strategic vision necessary to navigate the ever-evolving landscape of hotel commercial strategy while driving profit throughout the customer journey. \nThe HSMAI Europe Commercial Strategy Conference and the HSMAI Awards Europe will be held at The Savoy Hotel in London.[/vc_column_text][vc_btn title=”READ MORE HERE” color=”green” align=”center” css=”” button_block=”true” link=”url:https%3A%2F%2Fhsmai.eu%2Fcommercial-strategy-week-2025%2Fprogram%2F|target:_blank”][vc_column_text css=”.vc_custom_1732272245190{margin-bottom: 0px !important;}”]Contact Us: \nFor group rates\, sponsorship and further inquiries\, please email us at postbox@hsmai.eu.  \nDon’t miss this unique opportunity to connect\, learn\, and lead in the evolving landscape of commercial strategy. Be part of an inspiring experience in London this January![/vc_column_text][/vc_column][/vc_row]
URL:https://hsmai.eu/event/commercial-strategy-week-2025-london/
LOCATION:The Savoy Hotel\, 2 Savoy Ct\, Strand\, London\, WC2R 0EZ\, United Kingdom
ATTACH;FMTTYPE=image/png:https://hsmai.eu/wp-content/uploads/sites/15/2024/06/untitled-design-7.png
GEO:51.5102932;-0.1205788
X-APPLE-STRUCTURED-LOCATION;VALUE=URI;X-ADDRESS=The Savoy Hotel 2 Savoy Ct Strand London WC2R 0EZ United Kingdom;X-APPLE-RADIUS=500;X-TITLE=2 Savoy Ct\, Strand:geo:-0.1205788,51.5102932
END:VEVENT
END:VCALENDAR