BEGIN:VCALENDAR
VERSION:2.0
PRODID:-//HSMAI Region Europe - ECPv6.15.20//NONSGML v1.0//EN
CALSCALE:GREGORIAN
METHOD:PUBLISH
X-ORIGINAL-URL:https://hsmai.eu
X-WR-CALDESC:Events for HSMAI Region Europe
REFRESH-INTERVAL;VALUE=DURATION:PT1H
X-Robots-Tag:noindex
X-PUBLISHED-TTL:PT1H
BEGIN:VTIMEZONE
TZID:Europe/Berlin
BEGIN:DAYLIGHT
TZOFFSETFROM:+0100
TZOFFSETTO:+0200
TZNAME:CEST
DTSTART:20240331T010000
END:DAYLIGHT
BEGIN:STANDARD
TZOFFSETFROM:+0200
TZOFFSETTO:+0100
TZNAME:CET
DTSTART:20241027T010000
END:STANDARD
BEGIN:DAYLIGHT
TZOFFSETFROM:+0100
TZOFFSETTO:+0200
TZNAME:CEST
DTSTART:20250330T010000
END:DAYLIGHT
BEGIN:STANDARD
TZOFFSETFROM:+0200
TZOFFSETTO:+0100
TZNAME:CET
DTSTART:20251026T010000
END:STANDARD
BEGIN:DAYLIGHT
TZOFFSETFROM:+0100
TZOFFSETTO:+0200
TZNAME:CEST
DTSTART:20260329T010000
END:DAYLIGHT
BEGIN:STANDARD
TZOFFSETFROM:+0200
TZOFFSETTO:+0100
TZNAME:CET
DTSTART:20261025T010000
END:STANDARD
END:VTIMEZONE
BEGIN:VEVENT
DTSTART;TZID=Europe/Berlin:20250305T180000
DTEND;TZID=Europe/Berlin:20250305T210000
DTSTAMP:20260425T142318
CREATED:20250220T134246Z
LAST-MODIFIED:20250220T151648Z
UID:10000450-1741197600-1741208400@hsmai.eu
SUMMARY:HSMAI Europe & HFTP | Networking Event | Berlin
DESCRIPTION:[vc_row][vc_column][vc_single_image image=”16674″ img_size=”full” alignment=”center” css=””][mk_fancy_title color=”#663399″ size=”30″ font_weight=”bold” margin_bottom=”5″ font_family=”Merriweather” font_type=”google”]\nHSMAI Europe & HFTP Invite Our Members to an Exclusive Industry Networking Evening in Berlin!\n \n[/mk_fancy_title][mk_fancy_title color=”#669933″ size=”20″ font_weight=”bold” margin_bottom=”5″ font_family=”Merriweather” font_type=”google”]\nWednesday 5th March 2025 6:00pm – 9:00pm at the\nHilton Berlin\, Mohrenstraße 30\, 10117 Berlin\, Germany\n \n[/mk_fancy_title][vc_column_text css=”.vc_custom_1740064606992{margin-bottom: 0px !important;}”]After two incredible networking events during ITB Berlin in 2023 and 2024\, Hospitality Sales and Marketing Association International (HSMAI) Region Europe and Hospitality Financial and Technology Professionals (HFTP®) are excited to bring their members together once again! \nJoin us for an exclusive evening of delicious food\, drinks and networking\, designed for professionals in the hospitality industry who want to expand their circles\, share ideas and have a good time. \nWhether you’re looking to reconnect with familiar faces or meet new industry peers\, this is the place to be! Expect an engaging atmosphere where you can exchange insights\, spark new collaborations\, and strengthen valuable relationships. \nHFTP and HSMAI Europe are committed to fostering success across revenue\, sales & distribution\, marketing\, finance and technology —and this event is your chance to be part of the conversation shaping the future of hospitality.[/vc_column_text][vc_column_text css=”.vc_custom_1740051008688{margin-bottom: 0px !important;}”]🔗 Secure your spot today—Sign up below![/vc_column_text][vc_btn title=”Register” color=”green” align=”center” css=”” button_block=”true” link=”url:https%3A%2F%2Feur.cvent.me%2F4BO47d|target:_blank”][vc_column_text css=”.vc_custom_1740060211735{margin-bottom: 0px !important;}”]We look forward to welcoming you to Hilton Berlin for an inspiring and memorable evening! \nAll the best\, [/vc_column_text][/vc_column][/vc_row][vc_row][vc_column width=”1/3″][vc_single_image image=”16660″ img_size=”200×200″ alignment=”center” css=””][vc_column_text css=”.vc_custom_1740051139562{margin-bottom: 0px !important;}”]\nIngunn Hofseth  \nPresident & CEO\nHSMAI Europe \n[/vc_column_text][/vc_column][vc_column width=”1/3″][vc_single_image image=”16659″ img_size=”200×200″ alignment=”center” css=””][vc_column_text css=”.vc_custom_1740051208637{margin-bottom: 0px !important;}”]\nCarson Booth  \nChief Operating Officer EMEA\nHFTP \n[/vc_column_text][/vc_column][vc_column width=”1/3″][/vc_column][/vc_row][vc_row][vc_column][mk_divider style=”thick_solid”][mk_fancy_title color=”#000000″ size=”18″ font_weight=”bold” margin_bottom=”5″ font_family=”Merriweather” font_type=”google” responsive_align=”left”]About HSMAI Europe[/mk_fancy_title][vc_column_text css=”.vc_custom_1740050987332{margin-bottom: 0px !important;}”]HSMAI – Hospitality Sales and Marketing Association International – is a global organization founded in the US in 1927. HSMAI Region Europe is the European arm of the organisation. HSMAI Europe aims to be a key influencer\, pioneer and the go-to industry resource for professional development\, commercial strategies and sustainability in the hospitality\, travel and tourism industry. For more information about HSMAI Region Europe\, visit www.hsmai.eu [/vc_column_text][mk_fancy_title color=”#000000″ size=”18″ font_weight=”bold” margin_bottom=”5″ font_family=”Merriweather” font_type=”google” responsive_align=”left”]About HFTP[/mk_fancy_title][vc_column_text css=”.vc_custom_1740050771866{margin-bottom: 0px !important;}”]Hospitality Financial and Technology Professionals (HFTP®)\, established in 1952\, is a hospitality nonprofit association headquartered in Austin\, Texas USA with offices in the EU and Middle East. HFTP is recognized as the spokes group for the finance and technology segments of the hospitality industry with an international network of members and stakeholders. HFTP uniquely understands the industry’s pressing issues\, and assists its stakeholders in finding solutions to their challenges more efficiently than any organization. HFTP offers expert networks\, educational resources\, career development programs\, research\, leadership opportunities and conferences and events. HFTP produces international events throughout the year\, including the world’s largest hospitality technology tradeshow and conference brand: HITEC.  In addition\, it oversees the hospitality-specific Pineapplesearch.com® and the Uniform System of Accounts for the Lodging Industry (USALI). For more information about HFTP\, visit www.hftp.org. For the latest news\, visit the HFTP News page at news.hftp.org and the HFTP Connect blog at blog.hftp.org.[/vc_column_text][/vc_column][/vc_row]
URL:https://hsmai.eu/event/hsmai-europe-hftp-networking-event-berlin/
LOCATION:Hilton Berlin\, Mohrenstraße 30\, Berlin\, Berlin\, 10117\, Germany
ATTACH;FMTTYPE=image/png:https://hsmai.eu/wp-content/uploads/sites/15/2025/02/hsmai-europe-hftp-networking-event-berlin-main-1.png
GEO:52.51217;13.392685
X-APPLE-STRUCTURED-LOCATION;VALUE=URI;X-ADDRESS=Hilton Berlin Mohrenstraße 30 Berlin Berlin 10117 Germany;X-APPLE-RADIUS=500;X-TITLE=Mohrenstraße 30:geo:13.392685,52.51217
END:VEVENT
END:VCALENDAR