BEGIN:VCALENDAR
VERSION:2.0
PRODID:-//HSMAI Region Europe - ECPv6.15.20//NONSGML v1.0//EN
CALSCALE:GREGORIAN
METHOD:PUBLISH
X-ORIGINAL-URL:https://hsmai.eu
X-WR-CALDESC:Events for HSMAI Region Europe
REFRESH-INTERVAL;VALUE=DURATION:PT1H
X-Robots-Tag:noindex
X-PUBLISHED-TTL:PT1H
BEGIN:VTIMEZONE
TZID:Europe/London
BEGIN:DAYLIGHT
TZOFFSETFROM:+0000
TZOFFSETTO:+0100
TZNAME:BST
DTSTART:20250330T010000
END:DAYLIGHT
BEGIN:STANDARD
TZOFFSETFROM:+0100
TZOFFSETTO:+0000
TZNAME:GMT
DTSTART:20251026T010000
END:STANDARD
BEGIN:DAYLIGHT
TZOFFSETFROM:+0000
TZOFFSETTO:+0100
TZNAME:BST
DTSTART:20260329T010000
END:DAYLIGHT
BEGIN:STANDARD
TZOFFSETFROM:+0100
TZOFFSETTO:+0000
TZNAME:GMT
DTSTART:20261025T010000
END:STANDARD
BEGIN:DAYLIGHT
TZOFFSETFROM:+0000
TZOFFSETTO:+0100
TZNAME:BST
DTSTART:20270328T010000
END:DAYLIGHT
BEGIN:STANDARD
TZOFFSETFROM:+0100
TZOFFSETTO:+0000
TZNAME:GMT
DTSTART:20271031T010000
END:STANDARD
END:VTIMEZONE
BEGIN:VTIMEZONE
TZID:Europe/Amsterdam
BEGIN:DAYLIGHT
TZOFFSETFROM:+0100
TZOFFSETTO:+0200
TZNAME:CEST
DTSTART:20250330T010000
END:DAYLIGHT
BEGIN:STANDARD
TZOFFSETFROM:+0200
TZOFFSETTO:+0100
TZNAME:CET
DTSTART:20251026T010000
END:STANDARD
BEGIN:DAYLIGHT
TZOFFSETFROM:+0100
TZOFFSETTO:+0200
TZNAME:CEST
DTSTART:20260329T010000
END:DAYLIGHT
BEGIN:STANDARD
TZOFFSETFROM:+0200
TZOFFSETTO:+0100
TZNAME:CET
DTSTART:20261025T010000
END:STANDARD
BEGIN:DAYLIGHT
TZOFFSETFROM:+0100
TZOFFSETTO:+0200
TZNAME:CEST
DTSTART:20270328T010000
END:DAYLIGHT
BEGIN:STANDARD
TZOFFSETFROM:+0200
TZOFFSETTO:+0100
TZNAME:CET
DTSTART:20271031T010000
END:STANDARD
END:VTIMEZONE
BEGIN:VEVENT
DTSTART;TZID=Europe/London:20260401T123000
DTEND;TZID=Europe/London:20260401T170000
DTSTAMP:20260423T004558
CREATED:20260302T145531Z
LAST-MODIFIED:20260327T175619Z
UID:10000670-1775046600-1775062800@hsmai.eu
SUMMARY:Hospitality Unlocked | Maastricht
DESCRIPTION:[vc_row][vc_column][vc_single_image image=”18412″ img_size=”1920×1080″ alignment=”center” css=””][/vc_column][/vc_row][vc_row][/vc_row][vc_column][/vc_column][mk_fancy_title color=”#669933″ size=”40″ margin_bottom=”-5″ font_family=”Merriweather” font_type=”google”]Hospitality Unlocked[/mk_fancy_title][mk_fancy_title color=”#663399″ size=”20″ margin_bottom=”10″ font_family=”Montserrat” font_type=”google”]Hospitality Unlocked\, an event organized by the HSMAI Europe Student Council\n[/mk_fancy_title][vc_column_text margin_bottom=”0″ css=”.vc_custom_1774634146466{margin-bottom: 0px !important;}”]📅  Wednesday\, 1st April \n⏰  12.30 pm – 5.00 pm\n📍 Hotel Management School Maastricht \nHospitality Unlocked\, organized by the HSMAI Europe Student Council\, will take place at Hotel Management School Maastricht and brings its students particularly those focusing on Revenue Management & Real Estate together with industry professionals. \nThe topic of this event is “Pricing Power\, Platform Power & Property Power: Who Really Controls Hotel Value?”\, exploring the dynamics between pricing strategy\, distribution platforms\, and property ownership in shaping hotel value and performance.[/vc_column_text]
URL:https://hsmai.eu/event/hospitality-unlocked-maastricht/
LOCATION:Hotel Management School Maastricht Zuyd Hogeschool\, Bethlehemweg 2\, Maastricht\, 6222 BM
ATTACH;FMTTYPE=image/png:https://hsmai.eu/wp-content/uploads/sites/15/2026/03/hsmai-calendar-1.png
ORGANIZER;CN="HSMAI Region Europe":MAILTO:postbox@hsmai.eu
END:VEVENT
BEGIN:VEVENT
DTSTART;TZID=Europe/Amsterdam:20260401T170000
DTEND;TZID=Europe/Amsterdam:20260401T183000
DTSTAMP:20260423T004558
CREATED:20251231T110201Z
LAST-MODIFIED:20251231T110201Z
UID:10000654-1775062800-1775068200@hsmai.eu
SUMMARY:Commercial Career Start Program – Revenue Track
DESCRIPTION:[vc_row][vc_column][vc_single_image image=”17882″ img_size=”full” alignment=”center” css=””][mk_padding_divider size=”20″][vc_column_text css=”.vc_custom_1767178911549{margin-bottom: 0px !important;}”]HSMAI Europe Commercial Career Start Program supports hospitality students and recent graduates in transitioning from studying to their first roles in sales\, revenue\, or marketing in the industry. \nThe program is structured as a series of online sessions delivered by hospitality industry professionals from program partners – Marriott International\, Wyndham Hotels & Resorts\, IHG Hotels & Resorts and Accor – who share how sales\, revenue\, and marketing roles work in practice. \nThe program will last 12 weeks (mid-March – early June 2026)\, and will include classroom-size weekly group sessions. The program offers three tracks: Sales\, Revenue\, and Marketing.[/vc_column_text][mk_padding_divider size=”20″][vc_btn title=”Read more here” color=”violet” size=”lg” align=”center” css=”” button_block=”true”][/vc_column][/vc_row][vc_row][vc_column][/vc_column][/vc_row]
URL:https://hsmai.eu/event/commercial-career-start-program-revenue-track-2/2026-04-01/
LOCATION:Utrecht
ATTACH;FMTTYPE=image/png:https://hsmai.eu/wp-content/uploads/sites/15/2025/12/website-banner-2026-visual.png
ORGANIZER;CN="HSMAI Region Europe":MAILTO:postbox@hsmai.eu
END:VEVENT
END:VCALENDAR