BEGIN:VCALENDAR
VERSION:2.0
PRODID:-//HSMAI Region Europe - ECPv6.15.20//NONSGML v1.0//EN
CALSCALE:GREGORIAN
METHOD:PUBLISH
X-WR-CALNAME:HSMAI Region Europe
X-ORIGINAL-URL:https://hsmai.eu
X-WR-CALDESC:Events for HSMAI Region Europe
REFRESH-INTERVAL;VALUE=DURATION:PT1H
X-Robots-Tag:noindex
X-PUBLISHED-TTL:PT1H
BEGIN:VTIMEZONE
TZID:Europe/Amsterdam
BEGIN:DAYLIGHT
TZOFFSETFROM:+0100
TZOFFSETTO:+0200
TZNAME:CEST
DTSTART:20250330T010000
END:DAYLIGHT
BEGIN:STANDARD
TZOFFSETFROM:+0200
TZOFFSETTO:+0100
TZNAME:CET
DTSTART:20251026T010000
END:STANDARD
BEGIN:DAYLIGHT
TZOFFSETFROM:+0100
TZOFFSETTO:+0200
TZNAME:CEST
DTSTART:20260329T010000
END:DAYLIGHT
BEGIN:STANDARD
TZOFFSETFROM:+0200
TZOFFSETTO:+0100
TZNAME:CET
DTSTART:20261025T010000
END:STANDARD
BEGIN:DAYLIGHT
TZOFFSETFROM:+0100
TZOFFSETTO:+0200
TZNAME:CEST
DTSTART:20270328T010000
END:DAYLIGHT
BEGIN:STANDARD
TZOFFSETFROM:+0200
TZOFFSETTO:+0100
TZNAME:CET
DTSTART:20271031T010000
END:STANDARD
END:VTIMEZONE
BEGIN:VEVENT
DTSTART;VALUE=DATE:20260423
DTEND;VALUE=DATE:20260424
DTSTAMP:20260423T004423
CREATED:20250808T124401Z
LAST-MODIFIED:20260410T151814Z
UID:10000588-1776902400-1776988799@hsmai.eu
SUMMARY:HSMAI Europe Commercial Strategy Forum | Lisbon
DESCRIPTION:[vc_row][vc_column][vc_single_image image=”18389″ img_size=”full” css=””][vc_column_text css=”.vc_custom_1754657034503{margin-bottom: 0px !important;}”]Welcome to the HSMAI Europe Commercial Strategy Forum Lisbon. This full-day event will bring together hospitality leaders to discuss cutting-edge strategies in revenue management\, sales\, marketing\, and distribution. \nThe HSMAI Europe Commercial Strategy Forums were inspired by a simple yet powerful idea: to bring the insights\, energy\, and expertise of our HSMAI Europe Commercial Strategy Conference to local markets across Europe. \nOur annual conference has become a must-attend event for commercial leaders in hospitality\, providing cutting-edge strategies\, in-depth discussions\, and networking. However\, we know that not everyone can travel to a single location. That’s why we are hosting these focused\, local Commercial Strategy Forums—mini-versions of the main conference —tailored to the specific challenges and opportunities in each local market.[/vc_column_text][/vc_column][/vc_row][vc_row][vc_column][mk_padding_divider size=”25″][vc_btn title=”Read more & Register here” style=”classic” color=”violet” size=”lg” align=”center” button_block=”true” link=”url:https%3A%2F%2Fhsmai.eu%2Fcommercial-strategy-forum-lisbon-2026%2F”][/vc_column][/vc_row]
URL:https://hsmai.eu/event/hsmai-europe-commercial-strategy-forum-lisbon-2/
LOCATION:Epic Sana Marques\, Av. Fontes Pereira de Melo 8\, Lisbon\, 1069-310\, Portugal
ATTACH;FMTTYPE=image/png:https://hsmai.eu/wp-content/uploads/sites/15/2025/08/some-csf-athens-2026-1920-x-1080-px-1.png
END:VEVENT
BEGIN:VEVENT
DTSTART;TZID=Europe/Amsterdam:20260423T170000
DTEND;TZID=Europe/Amsterdam:20260423T183000
DTSTAMP:20260423T004423
CREATED:20251231T110310Z
LAST-MODIFIED:20251231T110310Z
UID:10000641-1776963600-1776969000@hsmai.eu
SUMMARY:Commercial Career Start Program – Marketing Track
DESCRIPTION:[vc_row][vc_column][vc_single_image image=”17882″ img_size=”full” alignment=”center” css=””][mk_padding_divider size=”20″][vc_column_text css=”.vc_custom_1767178985270{margin-bottom: 0px !important;}”]HSMAI Europe Commercial Career Start Program supports hospitality students and recent graduates in transitioning from studying to their first roles in sales\, revenue\, or marketing in the industry. \nThe program is structured as a series of online sessions delivered by hospitality industry professionals from program partners – Marriott International\, Wyndham Hotels & Resorts\, IHG Hotels & Resorts and Accor – who share how sales\, revenue\, and marketing roles work in practice. \nThe program will last 12 weeks (mid-March – early June 2026)\, and will include classroom-size weekly group sessions. The program offers three tracks: Sales\, Revenue\, and Marketing.[/vc_column_text][/vc_column][/vc_row][vc_row][vc_column][mk_padding_divider size=”20″][/vc_column][/vc_row][vc_row][vc_column][vc_btn title=”Read more here” color=”violet” size=”lg” align=”center” css=”” button_block=”true” link=”url:https%3A%2F%2Feur.cvent.me%2FZQOLD3″][/vc_column][/vc_row]
URL:https://hsmai.eu/event/commercial-career-start-program-marketing-track-2026/2026-04-23/
LOCATION:Utrecht
ATTACH;FMTTYPE=image/png:https://hsmai.eu/wp-content/uploads/sites/15/2025/12/website-banner-2026-visual.png
ORGANIZER;CN="HSMAI Region Europe":MAILTO:postbox@hsmai.eu
END:VEVENT
END:VCALENDAR