BEGIN:VCALENDAR
VERSION:2.0
PRODID:-//HSMAI Region Europe - ECPv6.15.20//NONSGML v1.0//EN
CALSCALE:GREGORIAN
METHOD:PUBLISH
X-WR-CALNAME:HSMAI Region Europe
X-ORIGINAL-URL:https://hsmai.eu
X-WR-CALDESC:Events for HSMAI Region Europe
REFRESH-INTERVAL;VALUE=DURATION:PT1H
X-Robots-Tag:noindex
X-PUBLISHED-TTL:PT1H
BEGIN:VTIMEZONE
TZID:Europe/Amsterdam
BEGIN:DAYLIGHT
TZOFFSETFROM:+0100
TZOFFSETTO:+0200
TZNAME:CEST
DTSTART:20250330T010000
END:DAYLIGHT
BEGIN:STANDARD
TZOFFSETFROM:+0200
TZOFFSETTO:+0100
TZNAME:CET
DTSTART:20251026T010000
END:STANDARD
BEGIN:DAYLIGHT
TZOFFSETFROM:+0100
TZOFFSETTO:+0200
TZNAME:CEST
DTSTART:20260329T010000
END:DAYLIGHT
BEGIN:STANDARD
TZOFFSETFROM:+0200
TZOFFSETTO:+0100
TZNAME:CET
DTSTART:20261025T010000
END:STANDARD
BEGIN:DAYLIGHT
TZOFFSETFROM:+0100
TZOFFSETTO:+0200
TZNAME:CEST
DTSTART:20270328T010000
END:DAYLIGHT
BEGIN:STANDARD
TZOFFSETFROM:+0200
TZOFFSETTO:+0100
TZNAME:CET
DTSTART:20271031T010000
END:STANDARD
END:VTIMEZONE
BEGIN:VTIMEZONE
TZID:Europe/Athens
BEGIN:DAYLIGHT
TZOFFSETFROM:+0200
TZOFFSETTO:+0300
TZNAME:EEST
DTSTART:20250330T010000
END:DAYLIGHT
BEGIN:STANDARD
TZOFFSETFROM:+0300
TZOFFSETTO:+0200
TZNAME:EET
DTSTART:20251026T010000
END:STANDARD
BEGIN:DAYLIGHT
TZOFFSETFROM:+0200
TZOFFSETTO:+0300
TZNAME:EEST
DTSTART:20260329T010000
END:DAYLIGHT
BEGIN:STANDARD
TZOFFSETFROM:+0300
TZOFFSETTO:+0200
TZNAME:EET
DTSTART:20261025T010000
END:STANDARD
BEGIN:DAYLIGHT
TZOFFSETFROM:+0200
TZOFFSETTO:+0300
TZNAME:EEST
DTSTART:20270328T010000
END:DAYLIGHT
BEGIN:STANDARD
TZOFFSETFROM:+0300
TZOFFSETTO:+0200
TZNAME:EET
DTSTART:20271031T010000
END:STANDARD
END:VTIMEZONE
BEGIN:VEVENT
DTSTART;TZID=Europe/Amsterdam:20261112T150000
DTEND;TZID=Europe/Amsterdam:20261112T180000
DTSTAMP:20260424T002242
CREATED:20260223T143329Z
LAST-MODIFIED:20260223T144250Z
UID:10000667-1794495600-1794506400@hsmai.eu
SUMMARY:Power Up | Amsterdam | November 2026
DESCRIPTION:[vc_row][vc_column][vc_single_image image=”18104″ img_size=”1920×1080″ alignment=”center” css=””][/vc_column][/vc_row][vc_row][vc_column][mk_fancy_title color=”#669933″ size=”25″ margin_bottom=”5″ font_family=”Merriweather” font_type=”google”]Power Up | Amsterdam | November 2026[/mk_fancy_title][vc_column_text css=”.vc_custom_1771857362445{margin-bottom: 0px !important;}”]📅 Thursday\, 12 November 2026\n⏰ 3:00 pm – 6:00 pm\n📍  Amsterdam \nHSMAI Europe returns to Amsterdam in November with a dynamic Power Up session. Join leaders from across the hospitality sector for an engaging event packed with practical insights\, real-world strategies\, peer exchange\, and valuable networking opportunities. \nHSMAI Europe members will be eligible to sign up once registrations are open. \n[/vc_column_text][/vc_column][/vc_row][vc_row disable_element=”yes”][vc_column][vc_btn title=”Register here” color=”green” size=”lg” align=”center” css=”” button_block=”true” link=”url:https%3A%2F%2Feur.cvent.me%2FQRe3RZ”][/vc_column][/vc_row]
URL:https://hsmai.eu/event/power-up-amsterdam-november-2026/
END:VEVENT
BEGIN:VEVENT
DTSTART;TZID=Europe/Athens:20261120T180000
DTEND;TZID=Europe/Athens:20261120T210000
DTSTAMP:20260424T002243
CREATED:20251215T085037Z
LAST-MODIFIED:20251215T085243Z
UID:10000619-1795197600-1795208400@hsmai.eu
SUMMARY:Power Up | Athens | November 2026
DESCRIPTION:[vc_row][vc_column][vc_single_image image=”17832″ img_size=”full” css=””][mk_fancy_title color=”#669933″ size=”25″ font_weight=”bold” font_family=”Merriweather” font_type=”google”]\nPower up | Athens | November 2026 \n[/mk_fancy_title][vc_column_text css=”.vc_custom_1765788524361{margin-bottom: 0px !important;}”]📅 Date: Friday\, 20 November (In Conjunction with XENIA 2026)\n⏰ Time: 6:00 pm – 8:00 pm (followed by networking & drinks)\n📍 Location: Athens[/vc_column_text][vc_column_text css=”.vc_custom_1765788631814{margin-bottom: 0px !important;}”]The event is open to registered members of HSMAI Europe when registration opens.[/vc_column_text][/vc_column][/vc_row]
URL:https://hsmai.eu/event/power-up-athens-november-2026/
ATTACH;FMTTYPE=image/png:https://hsmai.eu/wp-content/uploads/sites/15/2025/12/athens-20th-november.png
ORGANIZER;CN="HSMAI Region Europe":MAILTO:postbox@hsmai.eu
END:VEVENT
END:VCALENDAR