BEGIN:VCALENDAR
VERSION:2.0
PRODID:-//HSMAI Region Europe - ECPv6.15.20//NONSGML v1.0//EN
CALSCALE:GREGORIAN
METHOD:PUBLISH
X-ORIGINAL-URL:https://hsmai.eu
X-WR-CALDESC:Events for HSMAI Region Europe
REFRESH-INTERVAL;VALUE=DURATION:PT1H
X-Robots-Tag:noindex
X-PUBLISHED-TTL:PT1H
BEGIN:VTIMEZONE
TZID:Europe/Amsterdam
BEGIN:DAYLIGHT
TZOFFSETFROM:+0100
TZOFFSETTO:+0200
TZNAME:CEST
DTSTART:20230326T010000
END:DAYLIGHT
BEGIN:STANDARD
TZOFFSETFROM:+0200
TZOFFSETTO:+0100
TZNAME:CET
DTSTART:20231029T010000
END:STANDARD
BEGIN:DAYLIGHT
TZOFFSETFROM:+0100
TZOFFSETTO:+0200
TZNAME:CEST
DTSTART:20240331T010000
END:DAYLIGHT
BEGIN:STANDARD
TZOFFSETFROM:+0200
TZOFFSETTO:+0100
TZNAME:CET
DTSTART:20241027T010000
END:STANDARD
BEGIN:DAYLIGHT
TZOFFSETFROM:+0100
TZOFFSETTO:+0200
TZNAME:CEST
DTSTART:20250330T010000
END:DAYLIGHT
BEGIN:STANDARD
TZOFFSETFROM:+0200
TZOFFSETTO:+0100
TZNAME:CET
DTSTART:20251026T010000
END:STANDARD
END:VTIMEZONE
BEGIN:VEVENT
DTSTART;TZID=Europe/Amsterdam:20241203T180000
DTEND;TZID=Europe/Amsterdam:20241203T200000
DTSTAMP:20260423T214542
CREATED:20241017T102502Z
LAST-MODIFIED:20241130T110227Z
UID:10000429-1733248800-1733256000@hsmai.eu
SUMMARY:Connecting Future Leaders | London | December 2024
DESCRIPTION:[vc_row][vc_column][vc_single_image image=”16084″ img_size=”full” alignment=”center” css=””][mk_fancy_title color=”#669933″ size=”35″ font_weight=”bold” margin_bottom=”0″ font_family=”Merriweather” font_type=”google” responsive_align=”left”]Connecting Future Leaders | Christmas edition in London\n[/mk_fancy_title][vc_column_text css=”.vc_custom_1730293852261{margin-bottom: 0px !important;}”]\nThe Evolution of Luxury: Redefining High-End Hospitality for New Generations\n[/vc_column_text][vc_column_text css=”.vc_custom_1732880221339{margin-bottom: 0px !important;}”]📅 Date: Tuesday\, December 3\, 2024\n🕔 Time: 6:00 pm – 8:00 pm\, followed by networking\n📍 Venue: Kimpton Fitzroy Hotel\, London[/vc_column_text][vc_column_text css=”.vc_custom_1729160429675{margin-bottom: 0px !important;}”]Welcome to Connecting Future Leaders! This gathering is divided into two parts: first\, an educational program\, followed by a Christmas-themed networking session.[/vc_column_text][vc_column_text css=”.vc_custom_1729160442050{margin-bottom: 0px !important;}”]Connecting Future Leaders (CFL) is a platform that brings together young leaders\, talents\, and others in the travel industry aged 35 and under to share experiences\, build networks\, and exchange professional insights.[/vc_column_text][vc_column_text css=”.vc_custom_1732879817783{margin-bottom: 0px !important;}”]Delve into how the concept of luxury is shifting from traditional opulence to a more personalized\, experience-driven approach. This session will explore how younger generations are redefining luxury\, emphasizing authenticity and meaningful experiences. \nWe’re excited to announce that we’ll have representatives from the following companies as speakers:[/vc_column_text][vc_row_inner][vc_column_inner width=”1/3″][vc_single_image image=”16177″ alignment=”center” style=”vc_box_border_circle_2″ border_color=”green” css=””][vc_column_text css=”.vc_custom_1732879746885{margin-bottom: 0px !important;}”]\nJenni Holman\nDirector of PR & Brand Communications\nMason Rose \n[/vc_column_text][/vc_column_inner][vc_column_inner width=”1/3″][vc_single_image image=”16178″ alignment=”center” style=”vc_box_border_circle_2″ border_color=”green” css=””][vc_column_text css=”.vc_custom_1732879778433{margin-bottom: 0px !important;}”]\nEleanor Beattie\nSenior Manager\, Luxury & Lifestyle brands\nIHG \n[/vc_column_text][/vc_column_inner][vc_column_inner width=”1/3″][/vc_column_inner][/vc_row_inner][/vc_column][/vc_row][vc_row][vc_column][vc_btn title=”REGISTER HERE” color=”violet” size=”lg” align=”center” css=”” button_block=”true” link=”url:https%3A%2F%2Feur.cvent.me%2Fga9PN|target:_blank”][vc_column_text css=”.vc_custom_1732879602374{margin-bottom: 0px !important;}”]Learn how hotels and brands are adapting to meet these evolving expectations and what this means for career opportunities in the luxury sector. \nWhy It’s Relevant:\nLuxury hospitality is undergoing significant change\, presenting new opportunities for those eager to innovate and create impactful guest experiences. By understanding these trends\, young leaders can better plan their career paths and anticipate future industry directions.[/vc_column_text][vc_column_text css=”.vc_custom_1732964514828{margin-bottom: 0px !important;}”]Free participation. Register now to secure your spot![/vc_column_text][vc_single_image image=”16100″ img_size=”full” alignment=”center” css=””][/vc_column][/vc_row][vc_row][vc_column][mk_divider style=”thin_solid” thickness=”3″][vc_column_text css=”.vc_custom_1729160755651{margin-bottom: 0px !important;}”]For questions\, contact us at postbox@hsmai.eu[/vc_column_text][mk_padding_divider][/vc_column][/vc_row]
URL:https://hsmai.eu/event/connecting-future-leaders-london-december-2024/
LOCATION:Kimpton Fitzroy London Hotel\, 1-8 Russell Square\, London\, WC1B 5BE
ATTACH;FMTTYPE=image/png:https://hsmai.eu/wp-content/uploads/sites/15/2024/10/cfl-london-v1-4.png
ORGANIZER;CN="HSMAI Region Europe":MAILTO:postbox@hsmai.eu
END:VEVENT
BEGIN:VEVENT
DTSTART;TZID=Europe/Amsterdam:20241212T090000
DTEND;TZID=Europe/Amsterdam:20241212T180000
DTSTAMP:20260423T214542
CREATED:20240814T132847Z
LAST-MODIFIED:20241126T170924Z
UID:10000420-1733994000-1734026400@hsmai.eu
SUMMARY:HSMAI Europe Future of Sales konferanse | Norway
DESCRIPTION:[vc_row][vc_column][vc_column_text css=”.vc_custom_1732640961157{margin-bottom: 0px !important;}”]\n\nFuture of Sales: Innovating Hospitality Sales\nStyrk salgsteamet for fremtidens utfordringer i hotell- og reiselivsbransjen\n📅 Dato: Torsdag 12. desember\, 2024\n🕒 Tid: 09.00 – 18.00 inklusiv lunsj\, networking og\n📍 Sted: RADISSON BLU SCANDINAVIA HOTEL\, OSLO \nFå bedre resultater med et engasjert salgsteam!\nHotel-\, event- og reiselivsbransjen utvikler seg raskere enn noen gang\, og bedrifter står overfor konstant press for å tilpasse seg og lykkes. Velkommen til HSMAI Future of Sales konferanse i Oslo – en viktig konferanse for salgsprofesjonelle og ledere\, hvor du kan få innsikt og verktøy som hjelper deg å holde deg i forkant av utviklingen. \nVi gjentar suksessen fra i fjor (Sales Leader Forum)\, og legger nok en gang til rette for at salgsledere og deres salgsteam får muligheten til å lære fra bransjeeksperter\, bygge nettverk\, samarbeide og utvikle strategier som kan føre til bedre resultater og varig suksess. Ikke gå glipp av sjansen til å løfte salgstilnærmingen din og oppnå målbare resultater. Meld deg på nå for å sikre deg en plass! \nLes mer om konferansen og meld deg på her!\n[/vc_column_text][/vc_column][/vc_row]
URL:https://hsmai.eu/event/hsmai-europe-future-of-sales-konferanse-norway/
LOCATION:Utrecht
ATTACH;FMTTYPE=image/png:https://hsmai.eu/wp-content/uploads/sites/15/2024/08/future-of-sales-oslo-24-version-3.png
END:VEVENT
BEGIN:VEVENT
DTSTART;TZID=Europe/Amsterdam:20241212T170000
DTEND;TZID=Europe/Amsterdam:20241212T210000
DTSTAMP:20260423T214542
CREATED:20241017T063356Z
LAST-MODIFIED:20241017T064703Z
UID:10000427-1734022800-1734037200@hsmai.eu
SUMMARY:Connecting Future Leaders | Oslo | Desember 2024
DESCRIPTION:[vc_row][vc_column][vc_single_image image=”16030″ img_size=”full” alignment=”center” css=””][mk_fancy_title color=”#669933″ size=”35″ font_weight=”bold” margin_bottom=”0″ font_family=”Merriweather” font_type=”google” responsive_align=”left”]Connecting Future Leaders: Workshop og juleavslutning\n[/mk_fancy_title][mk_fancy_title color=”#000000″ size=”25″ font_weight=”bold” font_style=”italic” margin_bottom=”5″ font_family=”Merriweather” font_type=”google” responsive_align=”left”]Vi inviterer til workshop og julenetworking for Connecting Future Leaders[/mk_fancy_title][vc_column_text css=”.vc_custom_1729092119288{margin-bottom: 0px !important;}”]📅 Dato: Torsdag 12. desember 2024\n🕒 Tid: 17:00 – 21:00\n📍 Sted: Radisson Blu Scandinavia Hotel\, Oslo[/vc_column_text][vc_column_text css=”.vc_custom_1729092247348{margin-bottom: 0px !important;}”]Velkommen til årets siste Connecting Future Leaders-arrangement! Dette eventet er delt inn i to deler; først en interaktiv workshop\, før vi avslutter med en julenetworking.[/vc_column_text][vc_column_text css=”.vc_custom_1729147503016{margin-bottom: 0px !important;}”]Connecting Future Leaders (CFL) er et arrangement som samler unge ledere\, talenter og andre i reiselivsbransjen på 35 år og under for å dele erfaringer\, bygge nettverk og utveksle faglig innsikt.[/vc_column_text][vc_column_text css=”.vc_custom_1729092276993{margin-bottom: 0px !important;}”]\nDel 1: Workshop (17:00 – 19:00)\n[/vc_column_text][vc_column_text css=”.vc_custom_1729147622525{margin-bottom: 0px !important;}”]Deltakerne vil bli delt inn i grupper for å jobbe med oppgaver og idéer for neste års temaer og arrangementer. Workshopen ledes av medlemmer fra CFL-komiteen som inkluderer: \n \n\nHero Azeez\, Administrerende Direktør\, Hotel Christiania Teater\nSimon Barman-Jenssen\, Operations Manager\, Clarion Hotel Oslo\nLive Lorck\, General Manager\, Comfort Hotel Xpress Central Station\nHisham Mansour\, Teamleader Meetings & Events\, Radisson Hotel Group\n\n[/vc_column_text][vc_column_text css=”.vc_custom_1729092375374{margin-bottom: 0px !important;}”]\nDel 2: Julenetworking i Summit Bar (19:00 – 21:00)\n[/vc_column_text][vc_column_text css=”.vc_custom_1729092389263{margin-bottom: 0px !important;}”]Kvelden avsluttes i Summit Bar\, 21. etasje\, med nydelig utsikt over Oslo og Oslofjorden. Nyt gløgg\, DJ-musikk og god stemning for å markere slutten på et spennende år.[/vc_column_text][vc_column_text css=”.vc_custom_1729092401020{margin-bottom: 0px !important;}”]Gratis deltagelse for HSMAI-medlemmer. Registrer deg nå for å sikre din plass![/vc_column_text][vc_btn title=”REGISTER HERE” color=”violet” size=”lg” align=”center” css=”” button_block=”true” link=”url:https%3A%2F%2Feur.cvent.me%2F5L4vN|target:_blank”][/vc_column][/vc_row][vc_row][vc_column][mk_divider style=”thin_solid” thickness=”3″][vc_column_text css=”.vc_custom_1729146793145{margin-bottom: 0px !important;}”]For spørsmål\, kontakt oss på postbox@hsmai.eu[/vc_column_text][mk_padding_divider][/vc_column][/vc_row]
URL:https://hsmai.eu/event/connecting-future-leaders-oslo-desember-2024/
LOCATION:Radisson Blu Scandinavia Oslo\, Holbergs gate 30\, Oslo\, 0166\, Norway
ATTACH;FMTTYPE=image/png:https://hsmai.eu/wp-content/uploads/sites/15/2024/10/v21-1.png
ORGANIZER;CN="HSMAI Region Europe":MAILTO:postbox@hsmai.eu
END:VEVENT
END:VCALENDAR