BEGIN:VCALENDAR
VERSION:2.0
PRODID:-//HSMAI Region Europe - ECPv6.15.20//NONSGML v1.0//EN
CALSCALE:GREGORIAN
METHOD:PUBLISH
X-WR-CALNAME:HSMAI Region Europe
X-ORIGINAL-URL:https://hsmai.eu
X-WR-CALDESC:Events for HSMAI Region Europe
REFRESH-INTERVAL;VALUE=DURATION:PT1H
X-Robots-Tag:noindex
X-PUBLISHED-TTL:PT1H
BEGIN:VTIMEZONE
TZID:Europe/London
BEGIN:DAYLIGHT
TZOFFSETFROM:+0000
TZOFFSETTO:+0100
TZNAME:BST
DTSTART:20240331T010000
END:DAYLIGHT
BEGIN:STANDARD
TZOFFSETFROM:+0100
TZOFFSETTO:+0000
TZNAME:GMT
DTSTART:20241027T010000
END:STANDARD
BEGIN:DAYLIGHT
TZOFFSETFROM:+0000
TZOFFSETTO:+0100
TZNAME:BST
DTSTART:20250330T010000
END:DAYLIGHT
BEGIN:STANDARD
TZOFFSETFROM:+0100
TZOFFSETTO:+0000
TZNAME:GMT
DTSTART:20251026T010000
END:STANDARD
BEGIN:DAYLIGHT
TZOFFSETFROM:+0000
TZOFFSETTO:+0100
TZNAME:BST
DTSTART:20260329T010000
END:DAYLIGHT
BEGIN:STANDARD
TZOFFSETFROM:+0100
TZOFFSETTO:+0000
TZNAME:GMT
DTSTART:20261025T010000
END:STANDARD
END:VTIMEZONE
BEGIN:VEVENT
DTSTART;TZID=Europe/London:20250115T090000
DTEND;TZID=Europe/London:20250115T120000
DTSTAMP:20260423T213345
CREATED:20241125T103227Z
LAST-MODIFIED:20250205T111356Z
UID:10000434-1736931600-1736942400@hsmai.eu
SUMMARY:Senior Talent Executive Roundtable (By-Invitation-Only)
DESCRIPTION:[vc_row][vc_column][mk_fancy_title color=”#669933″ size=”25″ margin_bottom=”0″ font_family=”Merriweather” font_type=”google” responsive_align=”left”]\nSenior Talent Executive Roundtable\n[/mk_fancy_title][mk_fancy_title color=”#000000″ size=”18″ font_style=”italic” margin_bottom=”5″ font_family=”Merriweather” font_type=”google” responsive_align=”left”]\nBy-Invitation-Only\n[/mk_fancy_title][vc_column_text css=”.vc_custom_1736514089519{margin-bottom: 0px !important;}”]📅 Wednesday\, January 15th\, 2025\n📍 The Savoy Hotel\, London\n🕘 9:00 AM – 12:00 PM \nJoin HSMAI Europe for an exclusive roundtable designed for senior Talent executives.  \nThe Senior Talent Executive Roundtable will focus on shaping the future of talent within the hospitality industry. This interactive session brings together  leaders with different backgrounds to explore innovative strategies for attracting and retaining top talent\, inspiring the next generation\, and leveraging tools like AI to enhance recruitment and development. With a spotlight on initiatives such as the HSMAI Europe Future You and Commercial Career Start Program\, this roundtable is a platform to share insights\, foster collaboration\, and create actionable solutions for the industry’s evolving challenges. \nThe roundtable discussion will be led by Michael Wierling\, Director of HR for Northern Europe at IHG Hotels & Resorts and Chair of the HSMAI Europe People & Culture Advisory Board.\n \nMore about the Commercial Career Start Program here.\nMore about the Future You here. \n  \nWhat to Expect\nHSMAI Executive Roundtables are networks of like-minded senior leaders that meet face-to-face and virtually. They are a unique opportunity for executives to have meaningful dialogue in a confidential environment. \n📌*Please note that all registrations will be pending approval.[/vc_column_text][/vc_column][/vc_row]
URL:https://hsmai.eu/event/senior-hr-talent-executive-roundtable-by-invitation-only/
LOCATION:The Savoy Hotel\, 2 Savoy Ct\, Strand\, London\, WC2R 0EZ\, United Kingdom
ATTACH;FMTTYPE=image/png:https://hsmai.eu/wp-content/uploads/sites/15/2024/11/hrtalent-roundtable-1.png
GEO:51.5102932;-0.1205788
X-APPLE-STRUCTURED-LOCATION;VALUE=URI;X-ADDRESS=The Savoy Hotel 2 Savoy Ct Strand London WC2R 0EZ United Kingdom;X-APPLE-RADIUS=500;X-TITLE=2 Savoy Ct\, Strand:geo:-0.1205788,51.5102932
END:VEVENT
BEGIN:VEVENT
DTSTART;TZID=Europe/London:20250115T090000
DTEND;TZID=Europe/London:20250115T120000
DTSTAMP:20260423T213345
CREATED:20241125T104902Z
LAST-MODIFIED:20250205T111505Z
UID:10000435-1736931600-1736942400@hsmai.eu
SUMMARY:Designing Leverage of MICE Potential in the Business Mix (By-Invitation-Only Workshop)
DESCRIPTION:[vc_row][vc_column][mk_fancy_title color=”#669933″ size=”25″ margin_bottom=”0″ font_family=”Merriweather” font_type=”google” responsive_align=”left”]\nDesigning Leverage of MICE Potential in the Business Mix\n[/mk_fancy_title][mk_fancy_title color=”#000000″ size=”18″ font_style=”italic” margin_bottom=”5″ font_family=”Merriweather” font_type=”google” responsive_align=”left”]\nBy-Invitation-Only Workshop\n[/mk_fancy_title][vc_column_text css=”.vc_custom_1731340752692{margin-bottom: 0px !important;background-color: #f2f2f2 !important;}”]\n\nWorkshop Details\n\nDate & Time: Wednesday\, January 15\, 2025\, from 9 AM to 12 PM\, with registration starting at 8:30 AM\nLocation: The Savoy Hotel\, London\nModerators: Mark Struik and Thijs Peters\, Partners at Conventus Consultants \nThe timing of the workshop “Designing leverage of MICE potential in the business mix” is set to be part of the HSMAI Europe Commercial Strategy Week\, taking place in London from the 15th – 17th of January 2025\, where many of the industry C-level and Directors will be present. Below you will see the structure for the workshop\, aimed at gathering expert input to inform a potential year-round HSMAI Europe MICE program including training both on a national and regional level. \n[/vc_column_text][vc_column_text css=”.vc_custom_1731339758809{margin-bottom: 0px !important;}”]As HSMAI Europe expands and our members would like to increasingly prioritise MICE\, we are dedicated to enhancing our focus on this both locally and regionally. We kindly asked you to identify who from your senior team we should invite to join us for this important workshop by sending us an email at postbox@hsmai.eu.[/vc_column_text][mk_divider style=”thin_solid” thin_single_color=”#000000″ thickness=”3″ margin_top=”10″ margin_bottom=”10″][mk_fancy_title color=”#669933″ size=”18″ margin_bottom=”0″ font_family=”Merriweather” font_type=”google” responsive_align=”left”]\nKey Objective\n[/mk_fancy_title][vc_column_text css=”.vc_custom_1731338622566{margin-bottom: 0px !important;}”]To identify opportunities for a year-round MICE program for HSMAI Europe (local and regional). \nWe’ll be examining this from multiple perspectives\, including MICE marketing & sales\, the RFP process\, distribution networks\, yield management\, sustainability\, training\, and data analysis. \nIncluded in the discussion will be the terminology. Is MICE the correct program name or should we look at alternatives?[/vc_column_text][mk_fancy_title color=”#669933″ size=”18″ margin_bottom=”0″ font_family=”Merriweather” font_type=”google” responsive_align=”left”]\nDeliverables\n[/mk_fancy_title][vc_column_text css=”.vc_custom_1731338695024{margin-bottom: 0px !important;}”]\n\nAdvice MICE program\n\n\nClear picture of how the market stakeholders perceives a MICE program and its needs 🡪 present back to the HSMAI Europe Board of Directors in the afternoon on the same day.\n\n[/vc_column_text][mk_divider style=”thin_solid” thin_single_color=”#000000″ thickness=”3″ margin_top=”10″ margin_bottom=”10″][mk_fancy_title color=”#663399″ size=”20″ margin_bottom=”5″ font_family=”Merriweather” font_type=”google” responsive_align=”left”]\nAGENDA\n[/mk_fancy_title][vc_column_text css=”.vc_custom_1731339689440{margin-bottom: 0px !important;background-color: #669933 !important;border-color: #669933 !important;}”]   Phase 1: Introduction and Objectives (30 minutes)[/vc_column_text][vc_column_text css=”.vc_custom_1731338950144{margin-bottom: 0px !important;background-color: #f2f2f2 !important;}”]\n\nWelcome and Objective Setting\nWe briefly introduce the workshop’s purpose: identify the possibility of a MICE program within HSMAI Europe to meet the needs of the MICE market and strengthen HSMAI’s overall offerings that will also include training.\n\n\nIcebreaker: Speed Brainstorming\nParticipants brainstorm in pairs\, focusing on the question: What are the biggest challenges in the MICE market from a hotel perspective? – Post-it up canvas\n\n\nShare Key Insights\nShare their top insights to establish a shared understanding of current industry challenges.\n\n[/vc_column_text][mk_padding_divider][vc_column_text css=”.vc_custom_1731339701413{margin-bottom: 0px !important;background-color: #669933 !important;border-color: #669933 !important;}”]   Phase 2: Defining the Core of the MICE Program (90 minutes)[/vc_column_text][vc_column_text css=”.vc_custom_1731339065000{margin-bottom: 0px !important;background-color: #f2f2f2 !important;}”]\n\nContext Mapping\nParticipants will be divided into small teams. Each team will create a context map\, identifying the key elements impacting the performance of MICE teams within the hotel industry. Here the perspectives MICE marketing & sales\, the RFP process\, distribution networks\, yield management\, sustainability\, training\, and data analysis are the starting points – Context map Canvas\nDot Voting for High-Impact Elements\nParticipants vote on the elements they feel have the most impact on MICE team performance. – Dot voting\nHot Air Balloon Exercise\nThe Hot Air Balloon method; teams will visualise what will help the MICE program “take off” (positive forces and opportunities) and what may hold it back (challenges and barriers). This will provide a clear overview of essential and limiting factors for the program. – Hot air balloon canvas\n\n\n[/vc_column_text][mk_padding_divider][vc_column_text css=”.vc_custom_1731339099055{margin-bottom: 0px !important;background-color: #669933 !important;border-color: #669933 !important;}”]   Phase 3: Developing Actionable Structure and Vision (60 minutes)[/vc_column_text][vc_column_text css=”.vc_custom_1731339126712{margin-bottom: 0px !important;background-color: #f2f2f2 !important;}”]\n\nCover Story\nParticipants in teams have to imagine that the newly launched MICE program has become a huge success\, leading to a cover story in a major industry publication. Each team will develop this cover story\, describing what the MICE program provides\, how it looks\, and what impact it has achieved. – Cover Story canvas\nFinal Sprint: Roadmap Development\nEach team outlines a roadmap for implementing the key components of their MICE program proposal. Use dot voting to identify the top priorities and most actionable next steps.\n\n[/vc_column_text][mk_padding_divider][vc_column_text css=”.vc_custom_1731339159100{margin-bottom: 0px !important;background-color: #669933 !important;border-color: #669933 !important;}”]   Conclusion (10 minutes)[/vc_column_text][vc_column_text css=”.vc_custom_1731339184446{margin-bottom: 0px !important;background-color: #f2f2f2 !important;}”]\n\nWrap-Up and Next Steps\nSummarise the key insights from the workshop. Discuss takeaways to present to the HSMAI Europe Board of Directors.\n\n[/vc_column_text][mk_padding_divider][vc_column_text css=”.vc_custom_1731339208361{margin-bottom: 0px !important;}”]\nWe kindly ask you to identify the senior team members you would like us to invite to this important workshop and to share their details at postbox@hsmai.eu. \n[/vc_column_text][mk_divider style=”thin_solid” thin_single_color=”#000000″ thickness=”3″ margin_top=”10″ margin_bottom=”10″][/vc_column][/vc_row]
URL:https://hsmai.eu/event/designing-leverage-of-mice-potential-in-the-business-mix-by-invitation-only-workshop/
LOCATION:The Savoy Hotel\, 2 Savoy Ct\, Strand\, London\, WC2R 0EZ\, United Kingdom
ATTACH;FMTTYPE=image/png:https://hsmai.eu/wp-content/uploads/sites/15/2024/09/the-savoy.png
GEO:51.5102932;-0.1205788
X-APPLE-STRUCTURED-LOCATION;VALUE=URI;X-ADDRESS=The Savoy Hotel 2 Savoy Ct Strand London WC2R 0EZ United Kingdom;X-APPLE-RADIUS=500;X-TITLE=2 Savoy Ct\, Strand:geo:-0.1205788,51.5102932
END:VEVENT
BEGIN:VEVENT
DTSTART;TZID=Europe/London:20250115T100000
DTEND;TZID=Europe/London:20250115T160000
DTSTAMP:20260423T213345
CREATED:20241024T114418Z
LAST-MODIFIED:20250111T174724Z
UID:10000430-1736935200-1736956800@hsmai.eu
SUMMARY:CRME Review Course in London
DESCRIPTION:Come to London and leave with your Global HSMAI certification!\nReady to be recognized and certified for your expertise in Sales or Revenue Management? Join the CRME Review Course this January in London\, and take a major step toward HSMAI Global certification! \nHSMAI certifications are important because the more you know — and the more you can demonstrate what you know — the better ROI you can provide to your company\, the more you can improve its bottom line\, and the better you can position your career. \nWhen is the Review Course?\nDay: Wednesday\, 15th January 2025 \nTime: 10 AM – 3 PM (local time) followed by global exam 3 PM – 4 PM (optional) \nVenue: London\, location to be announced \nRead more and sign up here
URL:https://hsmai.eu/event/chdm-chsl-or-crme-review-courses-in-london/
LOCATION:London\, United Kingdom
ATTACH;FMTTYPE=image/png:https://hsmai.eu/wp-content/uploads/sites/15/2024/10/design-uten-navn-44.png
END:VEVENT
BEGIN:VEVENT
DTSTART;TZID=Europe/London:20250115T123000
DTEND;TZID=Europe/London:20250115T143000
DTSTAMP:20260423T213345
CREATED:20241125T110904Z
LAST-MODIFIED:20241125T112443Z
UID:10000437-1736944200-1736951400@hsmai.eu
SUMMARY:HSMAI Europe Board of Directors Meeting (Internal)
DESCRIPTION:[vc_row][vc_column][mk_fancy_title color=”#669933″ size=”25″ margin_bottom=”0″ font_family=”Merriweather” font_type=”google” responsive_align=”left”]\nHSMAI Europe Board of Directors Meeting\n[/mk_fancy_title][mk_fancy_title color=”#000000″ size=”18″ font_style=”italic” margin_bottom=”5″ font_family=”Merriweather” font_type=”google” responsive_align=”left”]\nInternal\n[/mk_fancy_title][vc_column_text css=”.vc_custom_1732532903061{margin-bottom: 0px !important;}”]📅 Wednesday\, January 15th\, 2025\n📍 The Savoy Hotel\, London\n🕘 12:30 PM – 2:30 PM[/vc_column_text][/vc_column][/vc_row]
URL:https://hsmai.eu/event/hsmai-europe-board-of-directors-meeting-internal-by-invitation-only/
LOCATION:The Savoy Hotel\, 2 Savoy Ct\, Strand\, London\, WC2R 0EZ\, United Kingdom
ATTACH;FMTTYPE=image/png:https://hsmai.eu/wp-content/uploads/sites/15/2024/09/the-savoy.png
GEO:51.5102932;-0.1205788
X-APPLE-STRUCTURED-LOCATION;VALUE=URI;X-ADDRESS=The Savoy Hotel 2 Savoy Ct Strand London WC2R 0EZ United Kingdom;X-APPLE-RADIUS=500;X-TITLE=2 Savoy Ct\, Strand:geo:-0.1205788,51.5102932
END:VEVENT
BEGIN:VEVENT
DTSTART;TZID=Europe/London:20250115T150000
DTEND;TZID=Europe/London:20250115T200000
DTSTAMP:20260423T213345
CREATED:20241125T110356Z
LAST-MODIFIED:20250205T111857Z
UID:10000436-1736953200-1736971200@hsmai.eu
SUMMARY:Leadership Day (Internal\, By-Invitation-Only)
DESCRIPTION:[vc_row][vc_column][mk_fancy_title color=”#000000″ size=”25″ font_weight=”bold” font_family=”Merriweather” font_type=”google” responsive_align=”left”]Leadership Day (Internal)[/mk_fancy_title][vc_column_text css=”.vc_custom_1732532728071{margin-bottom: 0px !important;}”]📅 Wednesday\, January 15th\, 2025\n📍 The Savoy Hotel\, London\n🕘 3:00 PM – 8:00 PM\, including a working dinner \nThe HSMAI Europe Leadership Day 2025\, an invitation-only event\, will take place at the conference venue. For this gathering we invite HSMAI Europe Advisory Board members\, Rising Leaders Council\, Board of Directors members\, Student Council and special supporters and sponsors of the region.[/vc_column_text][/vc_column][/vc_row]
URL:https://hsmai.eu/event/hsmai-europe-leadership-day-internal/
LOCATION:The Savoy Hotel\, 2 Savoy Ct\, Strand\, London\, WC2R 0EZ\, United Kingdom
ATTACH;FMTTYPE=image/png:https://hsmai.eu/wp-content/uploads/sites/15/2024/09/the-savoy.png
GEO:51.5102932;-0.1205788
X-APPLE-STRUCTURED-LOCATION;VALUE=URI;X-ADDRESS=The Savoy Hotel 2 Savoy Ct Strand London WC2R 0EZ United Kingdom;X-APPLE-RADIUS=500;X-TITLE=2 Savoy Ct\, Strand:geo:-0.1205788,51.5102932
END:VEVENT
BEGIN:VEVENT
DTSTART;VALUE=DATE:20250116
DTEND;VALUE=DATE:20250117
DTSTAMP:20260423T213345
CREATED:20240607T115321Z
LAST-MODIFIED:20250205T112058Z
UID:10000413-1736985600-1737071999@hsmai.eu
SUMMARY:Commercial Strategy Conference & HSMAI Awards Europe | London
DESCRIPTION:[vc_row][vc_column][vc_single_image image=”15589″ img_size=”1920 x 800″ css=””][mk_fancy_title color=”#669933″ size=”25″ font_weight=”bold” margin_bottom=”5″ font_family=”Merriweather” font_type=”google” responsive_align=”left”]Join Us at the HSMAI Europe Commercial Strategy Conference and HSMAI Awards Europe in London![/mk_fancy_title][mk_fancy_title color=”#000000″ size=”18″ margin_bottom=”5″ font_family=”Merriweather” font_type=”google” responsive_align=”left”]📅 Thursday\, January 16th\, 2025\n📍 The Savoy Hotel\, London\, UK \n🕘 Conference: 8:00 AM – 5:00 PM\n🕘 Awards: 6:30 PM – 11:00 PM[/mk_fancy_title][vc_column_text css=”.vc_custom_1733848392047{margin-bottom: 0px !important;}”]HSMAI Europe’s Commercial Strategy Conference: Where Insights Drive Hospitality Forward! – the evolution of HSMAI ROC – reflects the development of marketing\, revenue optimization\, sales\, and other commercial functions into new and evolving commercial strategy organisations inside many hotel companies. \nThe conference — and pre- and post-conference certifications\, leadership day\, training and roundtables — will equip commercial professionals and leaders with the skills\, knowledge\, and strategic vision necessary to navigate the ever-evolving landscape of hotel commercial strategy while driving profit throughout the customer journey. \nThe HSMAI Europe Commercial Strategy Conference and the HSMAI Awards Europe will be held at The Savoy Hotel in London.[/vc_column_text][vc_btn title=”READ MORE HERE” color=”green” align=”center” css=”” button_block=”true” link=”url:https%3A%2F%2Fhsmai.eu%2Fcommercial-strategy-week-2025%2Fprogram%2F|target:_blank”][vc_column_text css=”.vc_custom_1732272245190{margin-bottom: 0px !important;}”]Contact Us: \nFor group rates\, sponsorship and further inquiries\, please email us at postbox@hsmai.eu.  \nDon’t miss this unique opportunity to connect\, learn\, and lead in the evolving landscape of commercial strategy. Be part of an inspiring experience in London this January![/vc_column_text][/vc_column][/vc_row]
URL:https://hsmai.eu/event/commercial-strategy-week-2025-london/
LOCATION:The Savoy Hotel\, 2 Savoy Ct\, Strand\, London\, WC2R 0EZ\, United Kingdom
ATTACH;FMTTYPE=image/png:https://hsmai.eu/wp-content/uploads/sites/15/2024/06/untitled-design-7.png
GEO:51.5102932;-0.1205788
X-APPLE-STRUCTURED-LOCATION;VALUE=URI;X-ADDRESS=The Savoy Hotel 2 Savoy Ct Strand London WC2R 0EZ United Kingdom;X-APPLE-RADIUS=500;X-TITLE=2 Savoy Ct\, Strand:geo:-0.1205788,51.5102932
END:VEVENT
BEGIN:VEVENT
DTSTART;TZID=Europe/London:20250117T090000
DTEND;TZID=Europe/London:20250117T120000
DTSTAMP:20260423T213345
CREATED:20241125T111454Z
LAST-MODIFIED:20250205T112355Z
UID:10000438-1737104400-1737115200@hsmai.eu
SUMMARY:Senior Revenue & Commercial Executive Roundtable
DESCRIPTION:[vc_row][vc_column][mk_fancy_title color=”#669933″ size=”25″ margin_bottom=”0″ font_family=”Merriweather” font_type=”google” responsive_align=”left”]\nThe Future of MICE Data\n[/mk_fancy_title][mk_fancy_title color=”#000000″ size=”18″ font_style=”italic” margin_bottom=”5″ font_family=”Merriweather” font_type=”google” responsive_align=”left”]\nBy-Invitation-Only\n[/mk_fancy_title][vc_column_text css=”.vc_custom_1736502994363{margin-bottom: 0px !important;}”]📅 Friday\, January 17th\, 2025\n📍 The Savoy Hotel\, London\n🕘 9:00 AM – 12:00 PM \nJoin HSMAI Europe for an exclusive roundtable designed for senior Revenue and Commercial executives. \nThe rapidly evolving MICE landscape presents unique challenges for hotels and hotel chains\, including total account management\, total revenue optimization\, and the IT infrastructure supporting these systems. This session offers a collaborative space to discuss these challenges\, uncover new opportunities\, and explore how the industry can work towards establishing common standards for MICE data and systems. \nThis by-invitation-only roundtable will also delve into the topic of Creating a MICE market data culture. \n  \nWhat to Expect\nHSMAI Executive Roundtables are networks of like-minded senior leaders that meet face-to-face and virtually. They are a unique opportunity for executive-level peer groups to have meaningful dialogue in a confidential environment.  \nWe will start with 2 speakers that will set the starting points of the discussion. [/vc_column_text][vc_row_inner][vc_column_inner width=”1/3″][vc_single_image image=”16201″ img_size=”full” alignment=”center” css=””][vc_column_text css=”.vc_custom_1736505303388{margin-bottom: 0px !important;}”]\nModerator \nShumi Khan\nGlobal SVP Business Performance & Revenue Management at Accor Hotels and Chair of the HSMAI Europe Revenue Optimization Advisory Board \n[/vc_column_text][/vc_column_inner][vc_column_inner width=”1/3″][vc_single_image image=”16246″ img_size=”full” alignment=”center” css=””][vc_column_text css=”.vc_custom_1734713342748{margin-bottom: 0px !important;}”]\nLeo Barrit\nVP Sales\, Hospitality\nat FLYR \n[/vc_column_text][/vc_column_inner][vc_column_inner width=”1/3″][vc_single_image image=”16204″ img_size=”full” alignment=”center” css=””][vc_column_text css=”.vc_custom_1734005868290{margin-bottom: 0px !important;}”]\nKatie Moro\nVice President\, Data Partnerships\nat Amadeus Hospitality \n[/vc_column_text][/vc_column_inner][/vc_row_inner][vc_row_inner][vc_column_inner][vc_column_text css=”.vc_custom_1735822524727{margin-bottom: 0px !important;}”]Special offer: We recommend the attendees to join the HSMAI Europe Commercial Strategy Conference on Thursday\, January 16th at the Savoy Hotel in London. As part of the collaboration HSMAI Europe offers hoteliers attending the roundtable\, the Early Bird member rate for the conference (expires on December 18th but please kindly reach out to us at postbox@hsmai.eu and we will provide a special code for your conference registration). \nThis executive roundtable is sponsored by Amadeus and Flyr. \n \n  \n\nWe will abide by HSMAI´s Antitrust Policy\, which we will share with you as a reminder at the beginning of the session. \n📌*Please note that all registrations will be pending approval.[/vc_column_text][/vc_column_inner][/vc_row_inner][/vc_column][/vc_row]
URL:https://hsmai.eu/event/senior-revenue-commercial-executive-roundtable/
LOCATION:The Savoy Hotel\, 2 Savoy Ct\, Strand\, London\, WC2R 0EZ\, United Kingdom
ATTACH;FMTTYPE=image/png:https://hsmai.eu/wp-content/uploads/sites/15/2024/11/rc-roundtable-1.png
GEO:51.5102932;-0.1205788
X-APPLE-STRUCTURED-LOCATION;VALUE=URI;X-ADDRESS=The Savoy Hotel 2 Savoy Ct Strand London WC2R 0EZ United Kingdom;X-APPLE-RADIUS=500;X-TITLE=2 Savoy Ct\, Strand:geo:-0.1205788,51.5102932
END:VEVENT
BEGIN:VEVENT
DTSTART;TZID=Europe/London:20250117T090000
DTEND;TZID=Europe/London:20250117T120000
DTSTAMP:20260423T213345
CREATED:20241125T112106Z
LAST-MODIFIED:20250205T112438Z
UID:10000439-1737104400-1737115200@hsmai.eu
SUMMARY:Senior Distribution Executive Roundtable (By-Invitation-Only)
DESCRIPTION:[vc_row][vc_column][mk_fancy_title color=”#669933″ size=”25″ margin_bottom=”5″ font_family=”Merriweather” font_type=”google” responsive_align=”left”]\nThe impact of the Digital Markets Act (DMA) in the Hospitality industry\n[/mk_fancy_title][vc_column_text css=”.vc_custom_1734704985211{margin-bottom: 0px !important;}”]📅 Friday\, January 17th\, 2025\n📍 The Savoy Hotel\, London\n🕘 9:00 AM – 12:00 PM \nJoin HSMAI Europe for an exclusive roundtable designed for senior distribution executives. \nAs HSMAI Europe expands and our members would like to increasingly prioritise Distribution\, we are dedicated to specifically enhancing our focus on Parity and Regulation. This roundtable is done in conjunction and coordinated by the International Hospitality Pricing Innovation series (IHPI). We will start with 4 speakers that will set the critical starting points of the discussion: European Commission\, Distribution Pricing Parity data\, Distribution Market Share data\, and Hotel Group point-of-view.[/vc_column_text][mk_padding_divider][/vc_column][/vc_row][vc_row][vc_column width=”1/5″][vc_column_text css=”.vc_custom_1735821527637{margin-bottom: 0px !important;}”]\n \nMODERATOR \nJuli Jones\nSenior Vice President at HSMAI \n[/vc_column_text][/vc_column][vc_column width=”1/5″][vc_column_text css=”.vc_custom_1734704833194{margin-bottom: 0px !important;}”]\n \nAndrea Mantovani\nEconomic theory Researcher at European Digital Markets Act (DMA) \n[/vc_column_text][/vc_column][vc_column width=”1/5″][vc_column_text css=”.vc_custom_1734704880708{margin-bottom: 0px !important;}”]\n \nJavier Delgado\nCEO EMEA at Mirai \n[/vc_column_text][/vc_column][vc_column width=”1/5″][vc_column_text css=”.vc_custom_1734704928094{margin-bottom: 0px !important;}”]\n \nPau Ferret\nCo-Founder & CRO at 123COMPARE.ME \n[/vc_column_text][/vc_column][vc_column width=”1/5″][vc_column_text css=”.vc_custom_1734704974521{margin-bottom: 0px !important;}”]\n \nOrazio Lambiase\nSenior Director\, Distribution\, EMEA at Marriott International \n[/vc_column_text][/vc_column][/vc_row][vc_row][vc_column][mk_padding_divider][vc_column_text css=”.vc_custom_1735822549749{margin-bottom: 0px !important;}”]Special offer: We recommend the attendees to join the HSMAI Europe Commercial Strategy Conference on Thursday\, January 16th at the Savoy Hotel in London. As part of the collaboration HSMAI Europe offers hoteliers attending the roundtable\, the Early Bird member rate for the conference (expires on December 18th but please kindly reach out to us at postbox@hsmai.eu and we will provide a special code for your conference registration). \nWhat to Expect from the roundtable on Friday\nHSMAI Executive Roundtables are networks of like-minded senior leaders that meet face-to-face and virtually. They are a unique opportunity for executive-level peer groups to have meaningful dialogue in a confidential environment.  \nWe will abide by HSMAI´s Antitrust Policy\, which we will share with you as a reminder at the beginning of the session. \n📌*Please note that all registrations will be pending approval.[/vc_column_text][/vc_column][/vc_row]
URL:https://hsmai.eu/event/senior-distribution-executive-roundtable-by-invitation-only/
LOCATION:The Savoy Hotel\, 2 Savoy Ct\, Strand\, London\, WC2R 0EZ\, United Kingdom
ATTACH;FMTTYPE=image/png:https://hsmai.eu/wp-content/uploads/sites/15/2024/11/distribution-roundtable-visual-1.png
GEO:51.5102932;-0.1205788
X-APPLE-STRUCTURED-LOCATION;VALUE=URI;X-ADDRESS=The Savoy Hotel 2 Savoy Ct Strand London WC2R 0EZ United Kingdom;X-APPLE-RADIUS=500;X-TITLE=2 Savoy Ct\, Strand:geo:-0.1205788,51.5102932
END:VEVENT
END:VCALENDAR