BEGIN:VCALENDAR
VERSION:2.0
PRODID:-//HSMAI Region Europe - ECPv6.15.20//NONSGML v1.0//EN
CALSCALE:GREGORIAN
METHOD:PUBLISH
X-WR-CALNAME:HSMAI Region Europe
X-ORIGINAL-URL:https://hsmai.eu
X-WR-CALDESC:Events for HSMAI Region Europe
REFRESH-INTERVAL;VALUE=DURATION:PT1H
X-Robots-Tag:noindex
X-PUBLISHED-TTL:PT1H
BEGIN:VTIMEZONE
TZID:Europe/London
BEGIN:DAYLIGHT
TZOFFSETFROM:+0000
TZOFFSETTO:+0100
TZNAME:BST
DTSTART:20250330T010000
END:DAYLIGHT
BEGIN:STANDARD
TZOFFSETFROM:+0100
TZOFFSETTO:+0000
TZNAME:GMT
DTSTART:20251026T010000
END:STANDARD
BEGIN:DAYLIGHT
TZOFFSETFROM:+0000
TZOFFSETTO:+0100
TZNAME:BST
DTSTART:20260329T010000
END:DAYLIGHT
BEGIN:STANDARD
TZOFFSETFROM:+0100
TZOFFSETTO:+0000
TZNAME:GMT
DTSTART:20261025T010000
END:STANDARD
BEGIN:DAYLIGHT
TZOFFSETFROM:+0000
TZOFFSETTO:+0100
TZNAME:BST
DTSTART:20270328T010000
END:DAYLIGHT
BEGIN:STANDARD
TZOFFSETFROM:+0100
TZOFFSETTO:+0000
TZNAME:GMT
DTSTART:20271031T010000
END:STANDARD
END:VTIMEZONE
BEGIN:VEVENT
DTSTART;TZID=Europe/London:20260618T140000
DTEND;TZID=Europe/London:20260618T163000
DTSTAMP:20260419T222552
CREATED:20260415T103758Z
LAST-MODIFIED:20260415T105748Z
UID:10000677-1781791200-1781800200@hsmai.eu
SUMMARY:Future YOU | Breda
DESCRIPTION:[vc_row][vc_column][vc_single_image image=”18516″ img_size=”1920×1080″ alignment=”center” css=””][/vc_column][/vc_row][vc_row][vc_column][mk_fancy_title color=”#669933″ size=”40″ margin_bottom=”-5″ font_family=”Merriweather” font_type=”google”]Future YOU[/mk_fancy_title][mk_fancy_title color=”#663399″ size=”20″ margin_bottom=”10″ font_family=”Montserrat” font_type=”google”]An event designed to help young people discover rewarding (and sometimes unexpected) career paths in the hospitality industry such as sales\, revenue management and marketing.[/mk_fancy_title][vc_column_text css=”.vc_custom_1776244712220{margin-bottom: 0px !important;}”]📅  Thursday\, 18th June \n⏰  2.00 pm – 4.30 pm\n📍 Breda University of Applied Sciences \nStudents will hear real career stories\, ask questions to professionals\, and meet companies offering jobs and internships locally. Whether students are considering work\, study\, or are simply curious—Future YOU is where they can explore what the hospitality industry can offer them. \n\nShort talks on career paths in hospitality\nQ&A covering students’ questions\nMeeting companies offering jobs and internships in the area\nFood\, refreshments and prizes\n\n[/vc_column_text][/vc_column][/vc_row][vc_row][vc_column][/vc_column][/vc_row]
URL:https://hsmai.eu/event/future-you-breda/
LOCATION:Breda University of Applied Sciences\, Monseigneur Hopmansstraat 2\, Breda\, 4817 JS\, Netherlands
ATTACH;FMTTYPE=image/png:https://hsmai.eu/wp-content/uploads/sites/15/2026/04/calendar-banner-1-1.png
ORGANIZER;CN="HSMAI Region Europe":MAILTO:postbox@hsmai.eu
END:VEVENT
END:VCALENDAR