BEGIN:VCALENDAR
VERSION:2.0
PRODID:-//HSMAI Region Europe - ECPv6.15.20//NONSGML v1.0//EN
CALSCALE:GREGORIAN
METHOD:PUBLISH
X-ORIGINAL-URL:https://hsmai.eu
X-WR-CALDESC:Events for HSMAI Region Europe
REFRESH-INTERVAL;VALUE=DURATION:PT1H
X-Robots-Tag:noindex
X-PUBLISHED-TTL:PT1H
BEGIN:VTIMEZONE
TZID:Europe/Amsterdam
BEGIN:DAYLIGHT
TZOFFSETFROM:+0100
TZOFFSETTO:+0200
TZNAME:CEST
DTSTART:20190331T010000
END:DAYLIGHT
BEGIN:STANDARD
TZOFFSETFROM:+0200
TZOFFSETTO:+0100
TZNAME:CET
DTSTART:20191027T010000
END:STANDARD
BEGIN:DAYLIGHT
TZOFFSETFROM:+0100
TZOFFSETTO:+0200
TZNAME:CEST
DTSTART:20200329T010000
END:DAYLIGHT
BEGIN:STANDARD
TZOFFSETFROM:+0200
TZOFFSETTO:+0100
TZNAME:CET
DTSTART:20201025T010000
END:STANDARD
BEGIN:DAYLIGHT
TZOFFSETFROM:+0100
TZOFFSETTO:+0200
TZNAME:CEST
DTSTART:20210328T010000
END:DAYLIGHT
BEGIN:STANDARD
TZOFFSETFROM:+0200
TZOFFSETTO:+0100
TZNAME:CET
DTSTART:20211031T010000
END:STANDARD
END:VTIMEZONE
BEGIN:VEVENT
DTSTART;TZID=Europe/Amsterdam:20200324T140000
DTEND;TZID=Europe/Amsterdam:20200324T180000
DTSTAMP:20260422T125539
CREATED:20200305T091704Z
LAST-MODIFIED:20200312T143725Z
UID:10000262-1585058400-1585072800@hsmai.eu
SUMMARY:HSMAI Meeting at Postillion Hotel Amsterdam
DESCRIPTION:[vc_row][vc_column][vc_cta h2=”HSMAI: Corona situation” color=”violet”]We would like to inform you that due to the corona situation we will not host the upcoming meeting Tuesday\, March 24 at the Postillion Hotel in Amsterdam We are sorry\, but of course the health and safety must be given priority first and foremost. \nIn the coming weeks we will arrange digital meetings instead. Already on Thursday last week we had a digital meeting for our members. If you did not attend\, you can see and hear it here. \nTake good care of yourself and your family and we’ll see you again soon – online![/vc_cta][vc_column_text css=”.vc_custom_1584023840701{margin-bottom: 0px !important;}”]\nCancelled: HSMAI Region Europe in Amsterdam\n5 MUST-HAVE PRINCIPLES OF HIGH-PERFORMING SALES TEAMS IN 2020\n  \n \nSpeaker: Remi Morken (CCO\, Salesscreen) \nSales professional with 13 years of experience in telecommunications\, insurance\, energy and SaaS-sales. Currently helping sales teams increase awareness\, motivation and productivity with visualization\, competitions and gamification. Remi was the chair of the HSMAI Europe Sales Award in London last January. \nWith Remi\, we will look at what these principles are and come up with specific suggestions on how to implement simple changes that increase productivity\, convert from prospect to customer and complete the sales cycle faster. \n  \n  \n14.00 welcome \n14.30 Start educational part \n16.00 end of educational part – start Network drinks! \n  \nSIGN UP HERE! \n\n  \n[/vc_column_text][/vc_column][/vc_row]
URL:https://hsmai.eu/event/hsmai-meeting-at-postillion-hotel-amsterdam/
LOCATION:Postillion Hotel Amsterdam\, Paul van Vlissingenstraat 8\, Amsterdam\, 1096 BK\, Netherlands
ORGANIZER;CN="HSMAI Region Europe":MAILTO:postbox@hsmai.eu
GEO:52.3340282;4.9215683
X-APPLE-STRUCTURED-LOCATION;VALUE=URI;X-ADDRESS=Postillion Hotel Amsterdam Paul van Vlissingenstraat 8 Amsterdam 1096 BK Netherlands;X-APPLE-RADIUS=500;X-TITLE=Paul van Vlissingenstraat 8:geo:4.9215683,52.3340282
END:VEVENT
END:VCALENDAR