BEGIN:VCALENDAR
VERSION:2.0
PRODID:-//HSMAI Region Europe - ECPv6.15.20//NONSGML v1.0//EN
CALSCALE:GREGORIAN
METHOD:PUBLISH
X-ORIGINAL-URL:https://hsmai.eu
X-WR-CALDESC:Events for HSMAI Region Europe
REFRESH-INTERVAL;VALUE=DURATION:PT1H
X-Robots-Tag:noindex
X-PUBLISHED-TTL:PT1H
BEGIN:VTIMEZONE
TZID:Europe/Amsterdam
BEGIN:DAYLIGHT
TZOFFSETFROM:+0100
TZOFFSETTO:+0200
TZNAME:CEST
DTSTART:20170326T010000
END:DAYLIGHT
BEGIN:STANDARD
TZOFFSETFROM:+0200
TZOFFSETTO:+0100
TZNAME:CET
DTSTART:20171029T010000
END:STANDARD
BEGIN:DAYLIGHT
TZOFFSETFROM:+0100
TZOFFSETTO:+0200
TZNAME:CEST
DTSTART:20180325T010000
END:DAYLIGHT
BEGIN:STANDARD
TZOFFSETFROM:+0200
TZOFFSETTO:+0100
TZNAME:CET
DTSTART:20181028T010000
END:STANDARD
BEGIN:DAYLIGHT
TZOFFSETFROM:+0100
TZOFFSETTO:+0200
TZNAME:CEST
DTSTART:20190331T010000
END:DAYLIGHT
BEGIN:STANDARD
TZOFFSETFROM:+0200
TZOFFSETTO:+0100
TZNAME:CET
DTSTART:20191027T010000
END:STANDARD
BEGIN:DAYLIGHT
TZOFFSETFROM:+0100
TZOFFSETTO:+0200
TZNAME:CEST
DTSTART:20200329T010000
END:DAYLIGHT
BEGIN:STANDARD
TZOFFSETFROM:+0200
TZOFFSETTO:+0100
TZNAME:CET
DTSTART:20201025T010000
END:STANDARD
END:VTIMEZONE
BEGIN:VEVENT
DTSTART;TZID=Europe/Amsterdam:20190924T143000
DTEND;TZID=Europe/Amsterdam:20190924T180000
DTSTAMP:20260423T205500
CREATED:20190530T082836Z
LAST-MODIFIED:20190917T090027Z
UID:10000235-1569335400-1569348000@hsmai.eu
SUMMARY:HSMAI at Gastvrij Rotterdam
DESCRIPTION:‘Van contact naar contract’ \nOp naar een Mens- en  Gastgerichte Cultuur\ndoor Josée Blanken \n \n  \n—– \nProgramma:\n14.30 – 15.00 \nOntvangst \n 15.00 – 16.30  \nPresentatie \n* \n‘Van contact naar contract’  \ndoor Josée Blanken \n16.30 – 18:00 \nBezoek Gastvrij + Netwerk Borrel \n(Toegangskaarten voor de Gastvrij-vloer worden verzorgd) \n  \n—– \nSpreker van de dag:\nJosée Blanken – Josée was al bekend met HSMAI vanwege haar tijd als branchedirecteur Hospitality bij Tempo-Team Group\, waar zij landelijk verantwoordelijk was voor ‘de lekkerste branche van Tempo-Team’. Inmiddels heeft ze ruim 10 jaar leidinggevende ervaring en is geaccrediteerd MBTI en DISC-drijfveren coach. In 2018 is zij gecertificeerd als systemisch coach en officieel NOBCO-coach.  \nJosée werkte voorheen als Hostmanship Trainer; de kunst mensen het gevoel te geven dat ze welkom zijn. Nu is zij als zelfstandig ondernemer o.a. werkzaam als Organisatie Adviseur bij Healthy Company Consultants B.V. (www.healthycc.nl) en als (organisatie)coach (www.betrokkenheidwerkt.nl). Daarnaast is zij sinds 2017 voorzitter van de Stichting The Touchables\, welke gericht is op het tastbaar maken van klantbeleving (www.thetouchables.nl). \n  \nSIGN UP HERE
URL:https://hsmai.eu/event/hsmai-at-gastvrij-rotterdam/
LOCATION:Rotterdam Ahoy\, Ahoyweg 10\, Rotterdam\, 3084 BA\, Netherlands
ORGANIZER;CN="HSMAI Holland":MAILTO:postbox@hsmai.eu
GEO:51.8827599;4.4882087
X-APPLE-STRUCTURED-LOCATION;VALUE=URI;X-ADDRESS=Rotterdam Ahoy Ahoyweg 10 Rotterdam 3084 BA Netherlands;X-APPLE-RADIUS=500;X-TITLE=Ahoyweg 10:geo:4.4882087,51.8827599
END:VEVENT
BEGIN:VEVENT
DTSTART;TZID=Europe/Amsterdam:20180918T140000
DTEND;TZID=Europe/Amsterdam:20180918T173000
DTSTAMP:20260423T205500
CREATED:20180426T191059Z
LAST-MODIFIED:20180710T093118Z
UID:10000195-1537279200-1537291800@hsmai.eu
SUMMARY:Ahoy Gastvrij Rotterdam
DESCRIPTION:[vc_row][vc_column][vc_column_text]\nAhoy Gastvrij in Rotterdam will take place Tuesday September 18th at Ahoy Gastvrij Rotterdam. This will be a very inspiring ‘hands-on’ event with Wouter de Vries jr. as speaker.\nIt is free to attend for HSMAI members. For non HSMAI members the price is 125 euro ex. VAT. \n[/vc_column_text][/vc_column][/vc_row][vc_row][vc_column][mk_button corner_style=”rounded” size=”medium” letter_spacing=”6″ icon=”mk-icon-ticket” icon_anim=”side” url=”https://www.eventbrite.co.uk/e/ahoy-gastvrij-rotterdam-september-18th-tickets-47705381079″ target=”_blank” align=”center” fullwidth=”true” margin_top=”20″ margin_bottom=”20″ margin_right=”3″ animation=”left-to-right” bg_color=”#663399″]Sign up today![/mk_button][/vc_column][/vc_row]\nProgram:\n14.00 – 14.30:  Registration \n\n \n14.30 – 16.00: Presentation by Wouter de Vries jr \n\nWouter de Vries jr. has an interesting résumé.  He was a lumberjack\, kibbutz volunteer and road-sweeper. Not for a week\, but for almost ten years. “When I was in my twenties I could only think in terms of freedom and happiness. I was in a state of born-to-run euphoria. I travelled a lot and worked hard. I studied Economics\, but at the time I felt that was a complete waste of time. I was left-wing\, idealistic and recalcitrant. I loved it!” \nNowadays\, Wouter de Vries jr. teaches service management at the Free University of Amsterdam. “It feels like playing a home match”\, says de Vries\, who is one of the most important authors and keynote speakers in the Netherlands in his field. He wrote 14 books on marketing and management\, for example \n\n`Dienstenmarketing Management’ (‘Service marketing management)\, De Vries jr.\, Wouter & Piet J.C. van Helsdingen (2005).\n`Strategische Dienstverlening’ (‘Strategic service management’)\, De Vries jr. & Goud (2003)\, (Dutch\, English and German edition)\n\nWouter de Vries jr. is actively involved in six MBA programs in the Netherlands. In-home he has rendered his services to approximately 150 organisations. His work is best described as ‘criticism with a smile’. He wears his heart upon his sleeve and\, and the same time\, enjoys life. De Vries jr. knows how to appreciate a good joke. His lectures are always interactive\, which makes it easier for him to fool his audience and get the message across. He addresses themes that are relevant in almost any management environment. Discussions usually go on way after his lecture has ended. “At the age of 35 I bought my first suit and matching tie. At present I am familiair with the plush in the board room\, but I am still at ease on any work floor.” \n\n\n16.00 – 17.30: Visit Gastvrij Rotterdam & Networking drinks \n  \nA big thank you to our sponsor Gastvrij Rotterdam! \n[vc_row][vc_column][mk_button corner_style=”rounded” size=”medium” letter_spacing=”6″ icon=”mk-icon-ticket” icon_anim=”side” url=”https://www.eventbrite.co.uk/e/ahoy-gastvrij-rotterdam-september-18th-tickets-47705381079″ target=”_blank” align=”center” fullwidth=”true” margin_top=”20″ margin_bottom=”20″ margin_right=”3″ animation=”left-to-right” bg_color=”#663399″]Sign up today![/mk_button][/vc_column][/vc_row]
URL:https://hsmai.eu/event/ahoy-gastvrij-rotterdam/
LOCATION:Rotterdam Ahoy\, Ahoyweg 10\, Rotterdam\, 3084 BA\, Netherlands
ATTACH;FMTTYPE=image/jpeg:https://hsmai.eu/wp-content/uploads/sites/15/2018/04/fullsizeoutput_b5.jpeg
ORGANIZER;CN="HSMAI Holland":MAILTO:postbox@hsmai.eu
GEO:51.8827599;4.4882087
X-APPLE-STRUCTURED-LOCATION;VALUE=URI;X-ADDRESS=Rotterdam Ahoy Ahoyweg 10 Rotterdam 3084 BA Netherlands;X-APPLE-RADIUS=500;X-TITLE=Ahoyweg 10:geo:4.4882087,51.8827599
END:VEVENT
END:VCALENDAR