BEGIN:VCALENDAR
VERSION:2.0
PRODID:-//HSMAI Region Europe - ECPv6.15.20//NONSGML v1.0//EN
CALSCALE:GREGORIAN
METHOD:PUBLISH
X-WR-CALNAME:HSMAI Region Europe
X-ORIGINAL-URL:https://hsmai.eu
X-WR-CALDESC:Events for HSMAI Region Europe
REFRESH-INTERVAL;VALUE=DURATION:PT1H
X-Robots-Tag:noindex
X-PUBLISHED-TTL:PT1H
BEGIN:VTIMEZONE
TZID:Europe/Amsterdam
BEGIN:DAYLIGHT
TZOFFSETFROM:+0100
TZOFFSETTO:+0200
TZNAME:CEST
DTSTART:20190331T010000
END:DAYLIGHT
BEGIN:STANDARD
TZOFFSETFROM:+0200
TZOFFSETTO:+0100
TZNAME:CET
DTSTART:20191027T010000
END:STANDARD
BEGIN:DAYLIGHT
TZOFFSETFROM:+0100
TZOFFSETTO:+0200
TZNAME:CEST
DTSTART:20200329T010000
END:DAYLIGHT
BEGIN:STANDARD
TZOFFSETFROM:+0200
TZOFFSETTO:+0100
TZNAME:CET
DTSTART:20201025T010000
END:STANDARD
BEGIN:DAYLIGHT
TZOFFSETFROM:+0100
TZOFFSETTO:+0200
TZNAME:CEST
DTSTART:20210328T010000
END:DAYLIGHT
BEGIN:STANDARD
TZOFFSETFROM:+0200
TZOFFSETTO:+0100
TZNAME:CET
DTSTART:20211031T010000
END:STANDARD
END:VTIMEZONE
BEGIN:VTIMEZONE
TZID:Europe/Oslo
BEGIN:DAYLIGHT
TZOFFSETFROM:+0100
TZOFFSETTO:+0200
TZNAME:CEST
DTSTART:20170326T010000
END:DAYLIGHT
BEGIN:STANDARD
TZOFFSETFROM:+0200
TZOFFSETTO:+0100
TZNAME:CET
DTSTART:20171029T010000
END:STANDARD
BEGIN:DAYLIGHT
TZOFFSETFROM:+0100
TZOFFSETTO:+0200
TZNAME:CEST
DTSTART:20180325T010000
END:DAYLIGHT
BEGIN:STANDARD
TZOFFSETFROM:+0200
TZOFFSETTO:+0100
TZNAME:CET
DTSTART:20181028T010000
END:STANDARD
BEGIN:DAYLIGHT
TZOFFSETFROM:+0100
TZOFFSETTO:+0200
TZNAME:CEST
DTSTART:20190331T010000
END:DAYLIGHT
BEGIN:STANDARD
TZOFFSETFROM:+0200
TZOFFSETTO:+0100
TZNAME:CET
DTSTART:20191027T010000
END:STANDARD
END:VTIMEZONE
BEGIN:VEVENT
DTSTART;TZID=Europe/Amsterdam:20200109T120000
DTEND;TZID=Europe/Amsterdam:20200109T170000
DTSTAMP:20260422T200033
CREATED:20190604T070651Z
LAST-MODIFIED:20190604T070651Z
UID:10000240-1578571200-1578589200@hsmai.eu
SUMMARY:HSMAI Møte- og Eventbørsen
DESCRIPTION:
URL:https://hsmai.eu/event/hsmai-mote-og-eventborsen/
LOCATION:Scandic Fornebu\, Martin Linges vei 2\, Fornebu\, 1364\, Norway
GEO:59.8937788;10.6296802
X-APPLE-STRUCTURED-LOCATION;VALUE=URI;X-ADDRESS=Scandic Fornebu Martin Linges vei 2 Fornebu 1364 Norway;X-APPLE-RADIUS=500;X-TITLE=Martin Linges vei 2:geo:10.6296802,59.8937788
END:VEVENT
BEGIN:VEVENT
DTSTART;TZID=Europe/Oslo:20180110T183000
DTEND;TZID=Europe/Oslo:20180110T233000
DTSTAMP:20260422T200033
CREATED:20180105T074146Z
LAST-MODIFIED:20180105T074146Z
UID:10000186-1515609000-1515627000@hsmai.eu
SUMMARY:HSMAI Markedsføringsprisene 2017 på Scandic Fornebu
DESCRIPTION:Velkommen til HSMAI Prisene 2017!\n Om kvelden onsdag 10. januar 2018 går reiselivets «Oscarutdeling»\, HSMAI Prisene av stabelen på Scandic Fornebu. Etter den like store begivenheten\, HSMAI Møte- og Eventbørsen har funnet sted på dagtid\, kårer og feirer vi de beste markedsførerne.\nHSMAI Prisene byr på mingling og aperitiff\, festmiddag og topp underholdning\, foruten aftenens høydepunkt\, prisutdelingene i de respektive kategoriene.\nFor å sende inn bidrag trykker du på “send inn bidrag” øverst på menylinjen. Bidrag må sendes inn snarest og innen mandag 27. november!\nNå kan du også melde deg og ditt team på festen\, dette gjør du ved å trykke på “meld deg på festen” øverst på menylinjen.\nPris for å delta på prisfesten er:\nEarly bird: \n\nHSMAI medlem 1095\,- eks moms.\nIkke HSMAI medlem 1495\,- eks moms.\n\nEarly bird prisen går ut mandag 27. november. Da øker prisene til:\n\nHSMAI-medlem: 1495\,- eks moms.\nIkke HSMAI-medlem: 1895\,- eks moms.\n\nPrisen inkluderer aperitiff\, middag og underholdning. Vi starter kl. 18:30\nOm du har spørsmål er det bare å kontakte oss. Du finner våre kontaktopplysninger ved å trykke her.\n\nCANCELLATION POLICY: Cancellations received three weeks prior to the conference will receive a full refund less a 75 Euro administrative fee. Cancellations received between three and one week out are entitled to a 50% refund. Cancellations received within one week will not be refunded. All cancellations must be received in writing.
URL:https://hsmai.eu/event/hsmai-markedsforingsprisene-2017-pa-scandic-fornebu/
LOCATION:Scandic Fornebu\, Martin Linges vei 2\, Fornebu\, 1364\, Norway
ATTACH;FMTTYPE=image/jpeg:https://hsmai.eu/wp-content/uploads/sites/15/2018/01/39442438395-37245130.jpg
ORGANIZER;CN="HSMAI Norway":MAILTO:postbox@hsmai.no
GEO:59.8937788;10.6296802
X-APPLE-STRUCTURED-LOCATION;VALUE=URI;X-ADDRESS=Scandic Fornebu Martin Linges vei 2 Fornebu 1364 Norway;X-APPLE-RADIUS=500;X-TITLE=Martin Linges vei 2:geo:10.6296802,59.8937788
END:VEVENT
END:VCALENDAR