BEGIN:VCALENDAR
VERSION:2.0
PRODID:-//HSMAI Region Europe - ECPv6.15.20//NONSGML v1.0//EN
CALSCALE:GREGORIAN
METHOD:PUBLISH
X-ORIGINAL-URL:https://hsmai.eu
X-WR-CALDESC:Events for HSMAI Region Europe
REFRESH-INTERVAL;VALUE=DURATION:PT1H
X-Robots-Tag:noindex
X-PUBLISHED-TTL:PT1H
BEGIN:VTIMEZONE
TZID:Europe/Amsterdam
BEGIN:DAYLIGHT
TZOFFSETFROM:+0100
TZOFFSETTO:+0200
TZNAME:CEST
DTSTART:20220327T010000
END:DAYLIGHT
BEGIN:STANDARD
TZOFFSETFROM:+0200
TZOFFSETTO:+0100
TZNAME:CET
DTSTART:20221030T010000
END:STANDARD
BEGIN:DAYLIGHT
TZOFFSETFROM:+0100
TZOFFSETTO:+0200
TZNAME:CEST
DTSTART:20230326T010000
END:DAYLIGHT
BEGIN:STANDARD
TZOFFSETFROM:+0200
TZOFFSETTO:+0100
TZNAME:CET
DTSTART:20231029T010000
END:STANDARD
BEGIN:DAYLIGHT
TZOFFSETFROM:+0100
TZOFFSETTO:+0200
TZNAME:CEST
DTSTART:20240331T010000
END:DAYLIGHT
BEGIN:STANDARD
TZOFFSETFROM:+0200
TZOFFSETTO:+0100
TZNAME:CET
DTSTART:20241027T010000
END:STANDARD
END:VTIMEZONE
BEGIN:VEVENT
DTSTART;TZID=Europe/Amsterdam:20230330T160000
DTEND;TZID=Europe/Amsterdam:20230330T183000
DTSTAMP:20260422T181845
CREATED:20230310T113603Z
LAST-MODIFIED:20230313T161748Z
UID:10000320-1680192000-1680201000@hsmai.eu
SUMMARY:Stockholm [SWE] Talent Acquisition for Commercial Operations
DESCRIPTION:[vc_row][vc_column][mk_fancy_title color=”#000000″ size=”20″ font_weight=”bold” margin_bottom=”5″ font_family=”Merriweather” font_type=”google”]\nJoin HSMAI Region Europe’s Afterwork in Stockholm with focus on Talent Acquisition for Commercial Operations on Thursday\, 30th March 2023  \n[/mk_fancy_title][vc_column_text css=”.vc_custom_1678450307972{margin-bottom: 0px !important;}”]HSMAI Europe would like to invite you to join Hospitality Professionals and Commercial Leaders to network and learn about Talent Acquisition for Commercial Operations on 30th March in Stockholm.[/vc_column_text][vc_column_text css=”.vc_custom_1678724181909{margin-bottom: 0px !important;}”]A gathering for HSMAI members and hospitality professionals will take place in Stockholm on 30th March at Thon Partner Hotel Kungsbron centrally in Stockholm right by Stockholm Central Station. It will last from 16:00 to 18:30 local time. We will hear from Cecilie Mannheimer\, Director of Staffing and Catrine Jack\, Head of Public Affairs at Randstad Sweden who will share the latest trends and updates about Talent Acquisition from the different industries and draw parallels to Hospitality.[/vc_column_text][/vc_column][/vc_row][vc_row][vc_column][vc_column_text css=”.vc_custom_1678377227204{margin-bottom: 0px !important;}”]RSVP: This is an exceptional opportunity to join our event in Stockholm for free! To celebrate the recovery of our industry we are opening this event for all professionals to learn\, share and get inspired.[/vc_column_text][vc_column_text css=”.vc_custom_1678450376698{margin-bottom: 0px !important;}”]P.S. For its association members HSMAI Europe will be hosting 6 local events in the Sweden during 2023. To inquire about membership send us an email to postbox@hsmai.eu[/vc_column_text][vc_btn title=”Sign up now” color=”green” size=”lg” align=”center” button_block=”true” link=”url:https%3A%2F%2Fwww-eur.cvent.com%2Fd%2F4fqf1m|target:_blank”][mk_fancy_title color=”#663399″ size=”20″ font_weight=”bold” margin_bottom=”5″ font_family=”Merriweather” font_type=”google”]\nAbout HSMAI Region Europe  \n[/mk_fancy_title][vc_column_text css=”.vc_custom_1678450383899{margin-bottom: 0px !important;}”]HSMAI – Hospitality Sales and Marketing Association International – is a global organization founded in the US in 1927. HSMAI Region Europe is the European arm of the organisation. \nVision\nHSMAI Europe aims to be a key influencer\, pioneer and the go-to industry resource for professional development\, commercial strategies and sustainability in the hospitality\, travel and tourism industry.[/vc_column_text][/vc_column][/vc_row]
URL:https://hsmai.eu/event/meet-connect-in-stockholm-hospitality-professionals-and-commercial-leaders-in-stockholm/
LOCATION:Thon Partner Hotel Kungsbron\, Västra Järnvägsgatan 17\, Stockholm\, Sweden
END:VEVENT
END:VCALENDAR